{"text_format":"1","workbook":"xlsx","n_sheets":7,"sheets":["INQUADRAMENTO","GENERALITÀ","FUNZIONALITÀ","ARTIFICIALITÀ","VARIAZIONI MORFOLOGICHE","CALC_INDICI","SINTESI"],"not_rendered":{"charts":0,"images":3,"macros":1,"external_links":0,"defined_names":9,"comments":1,"pivot_tables":0},"unopened":[],"bounds":{"document_bytes":16777216,"sheet_cells":100000,"rows_first":2000,"rows_last":500,"rows_between":2000,"halvings":0,"cell_chars":16384,"cell_head_chars":4096},"cells_cut":0,"cells_raw":0,"read":"whole","date_system":"1904"}

{"sheet":"INQUADRAMENTO","index":0,"n_rows":54,"n_cols":9,"rows_kept":54,"cut":false,"hidden":false,"merged":[[53,6,53,9],[2,1,2,3],[3,1,3,3],[37,0,38,8],[50,0,50,9],[1,1,1,3],[1,4,1,8],[2,4,2,8],[3,4,3,8],[51,0,51,9]]}
[]
[null,"TRATTO",null,null,{"$f":"IF(GENERALITÀ!F10=\"\",\"---\",GENERALITÀ!F10)","v":"---"}]
[null,"BACINO",null,null,{"$f":"IF(GENERALITÀ!C8=\"\",\"---\",GENERALITÀ!C8)","v":"---"}]
[null,"CORSO D'ACQUA",null,null,{"$f":"IF(GENERALITÀ!F8=\"\",\"---\",GENERALITÀ!F8)","v":"---"}]
[]
[]
[]
[]
[]
[]
[]
[]
[]
[]
[]
[]
[null,null,null,null,"immagine"]
[]
[]
[]
[]
[]
[]
[]
[]
[]
[]
[]
[]
[]
[]
[]
[]
[]
[]
[]
[]
["SCHEDA DI VALUTAZIONE DELLA QUALITÀ MORFOLOGICA\nper alvei SEMICONFINATI E NON CONFINATI"]
[]
[]
[]
[]
[]
[]
[]
[]
[null,null,null,null,null,null,null,"ANNO:",{"$f":"IF(YEAR(GENERALITÀ!C7)<2000,\"---\",YEAR(GENERALITÀ!C7))","v":"---"}]
[]
[]
[]
["IDRAIM"]
["sistema di valutazione IDRomorfologica, AnalisI e Monitoraggio dei Corsi d'Acqua"]
[]
[null,null,null,null,null,null,"Versione 2.4 - Aprile 2016"]

{"sheet":"GENERALITÀ","index":1,"n_rows":370,"n_cols":22,"rows_kept":370,"cut":false,"hidden":false,"merged":[[38,1,39,6],[37,1,37,2],[36,3,36,6],[41,1,41,6],[40,1,40,6],[37,3,37,6],[36,1,36,2],[47,1,47,2],[47,4,47,5],[46,1,46,2],[42,1,42,6],[45,1,45,2],[46,4,46,5],[45,4,45,5],[44,4,44,5],[44,1,44,2],[43,1,43,5],[9,2,9,3],[15,1,15,2],[14,1,14,6],[17,1,17,6],[10,2,10,3],[9,5,9,6],[15,5,15,6],[12,1,12,6],[1,1,2,6],[6,2,6,3],[7,2,7,3],[8,2,8,3],[4,1,4,6],[6,5,6,6],[7,5,7,6],[8,5,8,6],[23,1,23,6],[31,1,31,2],[35,1,35,6],[24,1,24,2],[24,3,24,6],[25,5,25,6],[30,1,30,3],[30,5,30,6],[31,5,31,6],[26,5,26,6],[32,1,32,2]]}
[]
[null,"IQM - SCHEDA  DI VALUTAZIONE PER ALVEI SEMI - NON CONFINATI"]
[]
[]
[null,"GENERALITÀ"]
[]
[null,"Data",null,null,"Operatori"]
[null,"Bacino",null,null,"Corso d'acqua"]
[null,"Estremità monte",null,null,"Estremità valle"]
[null,"Codice Segmento",null,null,"Codice Tratto"]
[null,"Lunghezza tratto (m) - Lt"]
[]
[null,"INQUADRAMENTO E SUDDIVISIONE INIZIALE"]
[]
[null,"1. Inquadramento fisiografico"]
[null,"Ambito fisiografico ",null,null,"Unità fisiografica  ",null,null,null,null,null,null,null,null,null,null,null,null,"Valori grado confinamento (intervallo)"]
[]
[null,"2. Confinamento",null,null,null,null,null,null,null,null,null,null,null,null,null,null,null,"<10"]
[null,null,"INSERIM. INTERV.","VALORE","INTERV","k","CLASSE Confinamento",null,null,null,null,null,null,null,null,null,null,"10÷90"]
[null,"Grado confinamento (%)",null,null,null,null,{"$f":"U31","v":{"$error":"#N/A"}},null,null,null,null,null,null,null,null,null,null,">90"]
[null,"Indice confinamento "]
[null,null,null,null,null,null,null,null,null,null,null,null,null,null,null,null,null,"Valori Indice confinamento (intervallo)"]
[]
[null,"3. Morfologia alveo",null,null,null,null,null,null,null,null,null,null,null,null,null,null,null,"1 ÷ 1.5"]
[null,"Immagine utilizzata (nome, anno)",null,null,null,null,null,null,null,null,null,null,null,null,null,null,null,{"$f":"\"1.5 ÷ \" & F20","v":"1.5 ÷ "}]
[null,null,"INSERIM. INTERV.","VALORE","INTERV","TIPOLOGIA",null,null,null,null,null,null,null,null,null,null,null,{"$f":"\"> \" & F20","v":"> "}]
[null,"Indice sinuosità "]
[null,"Indice intrecciamento "]
[null,"Indice anabranching",null,null,null,null,null,null,null,null,null,null,null,null,null,null,null,"CLASSE CONFINAMENTO"]
[null,null,null,null,null,null,null,null,null,null,null,null,null,null,null,null,null,"Gc","Ic","Gc&Ic","Cc"]
[null,"Configurazione fondo (solo per morfologie R, S, M, SBA)",null,null,null,"Larghezza media alveo (m) - La",null,null,null,null,null,null,null,null,null,null,null,{"$f":"IF(C20=\"SI\",E20,IF(D20<10,R18,IF(D20<=90,R19,IF(D20>90,R20,\"\"))))","v":"<10"},{"$f":"IF(C21=\"SI\",E21,IF(D21<1,\"\",IF(D21<=1.5,R24,IF(D21<=F20,R25,IF(D21>2,R26,\"\")))))","v":""},{"$f":"R31&\";\" &S31","v":"<10;"},{"$f":"VLOOKUP(T31,T34:U38,2,FALSE)","v":{"$error":"#N/A"}}]
[null,"Pendenza media fondo "]
[null,"Sedimenti (dominanti) alveo",null,null,null,"n","nLa",null,null,null,null,null,null,null,null,null,null,"Gc","Ic","Gc&Ic"]
[null,null,null,null,null,null,{"$f":"F32*F34","v":0},null,null,null,null,null,null,null,null,null,null,{"$f":"R19","v":"10÷90"},{"$f":"R25","v":"1.5 ÷ "},{"$f":"R34&\";\" &S34","v":"10÷90;1.5 ÷ "},"SC"]
[null,null,null,null,null,null,null,null,null,null,null,null,null,null,null,null,null,{"$f":"R19","v":"10÷90"},{"$f":"R26","v":"> "},{"$f":"R35&\";\" &S35","v":"10÷90;> "},"SC"]
[null,"4. Altri elementi per delimitazione tratto",null,null,null,null,null,null,null,null,null,null,null,null,null,null,null,{"$f":"R18","v":"<10"},{"$f":"R24","v":"1 ÷ 1.5"},{"$f":"R36&\";\" &S36","v":"<10;1 ÷ 1.5"},"SC"]
[null,"Monte",null,null,null,null,null,null,null,null,null,null,null,null,null,null,null,{"$f":"R18","v":"<10"},{"$f":"R25","v":"1.5 ÷ "},{"$f":"R37&\";\" &S37","v":"<10;1.5 ÷ "},"SC"]
[null,"Valle",null,null,null,null,null,null,null,null,null,null,null,null,null,null,null,{"$f":"R18","v":"<10"},{"$f":"R26","v":"> "},{"$f":"R38&\";\" &S38","v":"<10;> "},"NC"]
[null,"Discontinuità pendenza, affluente, variazioni unità morfologiche, variazioni dimensioni pianura e/o confinamento,\nvariazioni granulometria sedimenti, artificializzazione, diga, altro (specificare)."]
[null,null,null,null,null,null,null,null,null,null,null,null,null,null,null,null,null,"Indice di sinuosità",null,"Indice di intrecciamento",null,"Indice anabranching"]
[]
[null,null,null,null,null,null,null,null,null,null,null,null,null,null,null,null,null,"1 ÷ 1.05",null,"1 ÷ 1.5",null,"1 ÷ 1.5"]
[null," Altri dati / informazioni eventualmente disponibili",null,null,null,null,null,null,null,null,null,null,null,null,null,null,null,"1.05 ÷ 1.5",null,"> 1.5",null,"> 1.5"]
[null,"Area drenaggio (sottesa alla chiusura del tratto) (km2) - At",null,null,null,null,null,null,null,null,null,null,null,null,null,null,null,"> 1.5"]
[null,"Diametro sedimenti D50 (mm)",null,null,"Unità"]
[null,"Portate liquide",null,null,"Stazione idrometrica"]
[null,"Portata media annua (m3/s)",null,null,"Q1.5 (m3/s)"]
[null,"Portata massima",null,null,"Anno Portata massima"]
[]
[]
[]
[]
[]
[]
[]
[]
[]
[]
[]
[]
[]
[]
[]
[]
[]
[]
[]
[]
[]
[]
[]
[]
[]
[]
[]
[]
[]
[]
[]
[]
[]
[]
[]
[]
[]
[]
[]
[]
[]
[]
[]
[]
[]
[]
[]
[]
[]
[]
[]
[]
[]
[]
[]
[]
[]
[]
[]
[]
[]
[]
[]
[]
[]
[]
[]
[]
[]
[]
[]
[]
[]
[]
[]
[]
[]
[]
[]
[]
[]
[]
[]
[]
[]
[]
[]
[]
[]
[]
[]
[]
[]
[]
[]
[]
[]
[]
[]
[]
[]
[]
[]
[]
[]
[]
[]
[]
[]
[]
[]
[]
[]
[]
[]
[]
[]
[]
[]
[]
[]
[]
[]
[]
[]
[]
[]
[]
[]
[]
[]
[]
[]
[]
[]
[]
[]
[]
[]
[]
[]
[]
[]
[]
[]
[]
[]
[]
[]
[]
[]
[]
[]
[]
[]
[]
[]
[]
[]
[]
[]
[]
[]
[]
[]
[]
[]
[]
[]
[]
[]
[]
[]
[]
[]
[]
[]
[]
[]
[]
[]
[]
[]
[]
[]
[]
[]
[]
[]
[]
[]
[]
[]
[]
[]
[]
[]
[]
[]
[]
[]
[]
[]
[]
[]
[]
[]
[]
[]
[]
[]
[]
[]
[]
[]
[]
[]
[]
[]
[]
[]
[]
[]
[]
[]
[]
[]
[]
[]
[]
[]
[]
[]
[]
[]
[]
[]
[]
[]
[]
[]
[]
[]
[]
[]
[]
[]
[]
[]
[]
[]
[]
[]
[]
[]
[]
[]
[]
[]
[]
[]
[]
[]
[]
[]
[]
[]
[]
[]
[]
[]
[]
[]
[]
[]
[]
[]
[]
[]
[]
[]
[]
[]
[]
[]
[]
[]
[]
[]
[]
[]
[]
[]
[]
[]
[]
[]
[]
[]
[]
[]
[]
[]
[]
[]
[]
[]
[]
[]
[]
[]
[]
[]
[]
[]
[]
[]
[]
[]
[]
[]
[null,null,null,"discontinuità pendenza"]

{"sheet":"FUNZIONALITÀ","index":2,"n_rows":150,"n_cols":20,"rows_kept":150,"cut":false,"hidden":false,"merged":[[136,8,137,8],[125,8,126,8],[137,6,138,6],[137,7,138,7],[111,0,112,0],[120,0,120,8],[109,1,110,5],[111,1,112,5],[56,10,61,12],[67,10,72,12],[80,10,85,12],[94,10,101,12],[138,9,139,9],[110,9,111,9],[123,9,124,9],[125,9,126,9],[136,9,137,9],[68,9,69,9],[97,9,98,9],[95,9,96,9],[81,9,82,9],[83,9,84,9],[135,10,140,12],[109,10,112,12],[122,10,127,12],[119,0,119,9],[138,8,139,8],[135,0,136,0],[113,0,114,7],[109,0,110,0],[98,0,99,0],[98,1,99,5],[96,6,97,6],[96,7,97,7],[123,8,124,8],[124,6,125,6],[97,8,98,8],[99,8,100,8],[111,6,112,6],[111,7,112,7],[100,6,101,6],[100,7,101,7],[109,6,110,6],[95,8,96,8],[96,0,97,0],[96,1,97,5],[98,6,99,6],[98,7,99,7],[109,7,110,7],[110,8,111,8],[102,0,103,7],[108,1,108,5],[78,0,78,8],[84,0,85,0],[84,7,85,7],[80,7,81,7],[84,1,85,5],[92,0,92,8],[93,1,93,5],[94,7,95,7],[100,0,101,0],[100,1,101,5],[83,8,84,8],[86,0,87,8],[94,6,95,6],[84,6,85,6],[94,0,95,0],[94,1,95,5],[82,1,83,5],[82,0,83,0],[80,0,81,0],[82,7,83,7],[44,9,45,9],[46,9,47,9],[31,9,32,9],[33,9,34,9],[35,9,36,9],[57,9,58,9],[59,9,60,9],[79,1,79,5],[71,6,72,6],[70,9,71,9],[73,0,73,8],[47,1,48,5],[55,1,55,5],[71,0,72,0],[71,1,72,5],[34,0,35,0],[34,1,35,5],[32,0,33,0],[34,6,35,6],[34,7,35,7],[69,1,70,5],[66,1,66,5],[67,1,68,5],[56,0,57,0],[29,1,29,5],[21,7,22,7],[30,1,31,5],[80,6,81,6],[81,8,82,8],[59,8,60,8],[80,1,81,5],[82,6,83,6],[30,10,35,12],[43,10,48,12],[43,1,44,5],[36,0,37,7],[43,7,44,7],[46,8,47,8],[45,0,46,0],[45,6,46,6],[60,7,61,7],[56,1,57,5],[57,8,58,8],[58,7,59,7],[56,6,57,6],[58,1,59,5],[60,1,61,5],[60,6,61,6],[26,0,27,8],[58,0,59,0],[60,0,61,0],[67,0,68,0],[71,7,72,7],[0,0,1,9],[53,0,53,9],[23,0,24,7],[16,1,16,5],[7,8,8,8],[21,0,22,0],[21,1,22,5],[21,6,22,6],[10,7,11,7],[17,7,18,7],[8,0,9,0],[10,0,11,0],[17,6,18,6],[44,8,45,8],[3,0,3,9],[5,1,5,5],[8,1,9,5],[8,6,9,6],[8,7,9,7],[42,1,42,5],[43,0,44,0],[45,1,46,5],[69,0,70,0],[43,6,44,6],[31,8,32,8],[32,6,33,6],[32,7,33,7],[47,7,48,7],[33,8,34,8],[35,8,36,8],[54,0,54,8],[45,7,46,7],[39,0,40,8],[50,0,51,8],[63,0,64,8],[47,6,48,6],[58,6,59,6],[56,7,57,7],[30,7,31,7],[30,6,31,6],[32,1,33,5],[30,0,31,0],[47,0,48,0],[139,6,140,6],[139,7,140,7],[137,0,138,0],[137,1,138,5],[124,7,125,7],[128,0,129,7],[134,1,134,5],[126,7,127,7],[126,0,127,0],[124,0,125,0],[124,1,125,5],[20,8,21,8],[9,8,10,8],[9,9,10,9],[7,9,8,9],[6,10,11,12],[17,10,22,12],[18,9,19,9],[20,9,21,9],[18,8,19,8],[13,0,14,8],[17,0,18,0],[17,1,18,5],[6,0,7,0],[19,0,20,0],[19,1,20,5],[19,6,20,6],[19,7,20,7],[6,7,7,7],[10,1,11,5],[6,6,7,6],[6,1,7,5],[10,6,11,6],[34,13,35,13],[43,13,44,13],[45,13,46,13],[47,13,48,13],[19,13,20,13],[21,13,22,13],[30,13,31,13],[32,13,33,13],[6,13,7,13],[8,13,9,13],[10,13,11,13],[17,13,18,13],[68,8,69,8],[67,6,68,6],[67,7,68,7],[69,7,70,7],[70,8,71,8],[56,13,57,13],[58,13,59,13],[60,13,61,13],[67,13,68,13],[69,6,70,6],[69,13,70,13],[71,13,72,13],[122,13,123,13],[124,13,125,13],[80,13,81,13],[82,13,83,13],[84,13,85,13],[94,13,95,13],[96,13,97,13],[98,13,99,13],[100,13,101,13],[109,13,110,13],[111,13,112,13],[75,0,76,8],[89,0,90,8],[105,0,106,8],[116,0,117,8],[131,0,132,8],[144,0,145,8],[121,1,121,5],[99,9,100,9],[126,13,127,13],[135,13,136,13],[137,13,138,13],[139,13,140,13],[141,0,142,7],[135,1,136,5],[135,6,136,6],[135,7,136,7],[122,0,123,0],[122,1,123,5],[122,6,123,6],[122,7,123,7],[126,1,127,5],[126,6,127,6],[139,0,140,0],[139,1,140,5]]}
["FUNZIONALITÀ GEOMORFOLOGICA"]
[]
[]
["CONTINUITÀ"]
[null,null,null,null,null,null,null,null,null,null,null,null,null,null,"SF tot","Sna(F)","Max(SFtot)","conf","Fmax","Fmin"]
["F1","Continuità longitudinale nel flusso di sedimenti e materiale legnoso",null,null,null,null,"pt","scelta","conf","ptconf",null,null,null,{"$f":"A6","v":"F1"},{"$f":"SUMIF(H7:H12,\"x\",G7:G12)","v":0},{"$f":"IF(COUNTIF(H7:H12,\"x\")=0,MAX(G7:G12),0)","v":5},{"$f":"MAX(G7:G12)","v":5},{"$f":"IF(SUM(J8:J11)<>0,SUM(J8:J11),0)","v":0},{"$f":"IF(R6<0,O6,O6+R6)","v":0},{"$f":"IF(R6>0,O6,O6+R6)","v":0}]
["A","Assenza di alterazioni della continuità di sedimenti e materiale legnoso",null,null,null,null,0,null,null,null,{"$f":"IF(COUNTIF(H7:H12,\"x\")>1,\"ERRORE SELEZIONE MULTIPLA!\",\"\")","v":""}]
[null,null,null,null,null,null,null,null,null,{"$f":"IF(OR(I8=\"\",H7=H9),\"\",IF(H7=\"x\",G9-G7,G7-G9))","v":""}]
["B","Lieve alterazione (ostacoli nel flusso ma non intercettazione)",null,null,null,null,3]
[null,null,null,null,null,null,null,null,null,{"$f":"IF(OR(I10=\"\",H9=H11),\"\",IF(H9=\"x\",G11-G9,G9-G11))","v":""}]
["C","Forte alterazione (forte discontinuità di forme per intercettazione)",null,null,null,null,5," "]
[]
[]
["NOTE:"]
[]
[]
["F2","Presenza di piana inondabile",null,null,null,null,"pt","scelta","conf","ptconf",null,null,null,{"$f":"A17","v":"F2"},{"$f":"SUMIF(H18:H23,\"x\",G18:G23)","v":0},{"$f":"IF(COUNTIF(H18:H23,\"x\")=0,MAX(G18:G23),0)","v":5},{"$f":"MAX(G18:G23)","v":5},{"$f":"IF(SUM(J19:J22)<>0,SUM(J19:J22),0)","v":0},{"$f":"IF(R17<0,O17,O17+R17)","v":0},{"$f":"IF(R17>0,O17,O17+R17)","v":0}]
["A","Presenza di piana inondabile continua (>66% tratto) ed ampia",null,null,null,null,0,null,null,null,{"$f":"IF(COUNTIF(H18:H23,\"x\")>1,\"ERRORE SELEZIONE MULTIPLA!\",\"\")","v":""}]
[null,null,null,null,null,null,null,null,null,{"$f":"IF(OR(I19=\"\",H18=H20),\"\",IF(H18=\"x\",G20-G18,G18-G20))","v":""}]
["B","Presenza di piana inondabile discontinua (10÷66%) di qualunque ampiezza o >66% ma stretta",null,null,null,null,3," "]
[null,null,null,null,null,null,null,null,null,{"$f":"IF(OR(I21=\"\",H20=H22),\"\",IF(H20=\"x\",G22-G20,G20-G22))","v":""}]
["C","Assenza o presenza trascurabile (≤10% di qualunque ampiezza)",null,null,null,null,5]
[]
["Non si valuta nel caso di alvei in ambito montano lungo conoidi a forte pendenza (>3%)"]
[]
[]
["NOTE:"]
[]
[]
["F4","Processi di arretramento delle sponde",null,null,null,null,"pt","scelta","conf","ptconf",null,null,null,{"$f":"A30","v":"F4"},{"$f":"SUMIF(H31:H36,\"x\",G31:G36)","v":0},{"$f":"IF(COUNTIF(H31:H36,\"x\")=0,MAX(G31:G36),0)","v":3},{"$f":"MAX(G31:G36)","v":3},{"$f":"IF(SUM(J32:J37)<>0,SUM(J32:J37),0)","v":0},{"$f":"IF(R30<0,O30,O30+R30)","v":0},{"$f":"IF(R30>0,O30,O30+R30)","v":0}]
["A","Presenza di frequenti sponde in arretramento soprattutto sul lato esterno delle curve",null,null,null,null,0," ",null,null,{"$f":"IF(COUNTIF(H31:H36,\"x\")>1,\"ERRORE SELEZIONE MULTIPLA!\",\"\")","v":""}]
[null,null,null,null,null,null,null,null,null,{"$f":"IF(OR(I32=\"\",H31=H33),\"\",IF(H31=\"x\",G33-G31,G31-G33))","v":""}]
["B","Sponde in arretramento poco frequenti in quanto  impedite da opere e/o scarsa dinamica alveo",null,null,null,null,2]
[null,null,null,null,null,null,null,null,null,{"$f":"IF(OR(I34=\"\",H33=H35),\"\",IF(H33=\"x\",G35-G33,G33-G35))","v":""}]
["C","Completa assenza oppure presenza diffusa di sponde instabili per movimenti di massa",null,null,null,null,3]
[null,null,null,null,null,null,null,null,null,{"$f":"IF(OR(I36=\"\",H31=H35),\"\",IF(H31=\"x\",G35-G31,G31-G35))","v":""}]
["Non si valuta in caso di alvei rettilinei o sinuosi o anabranching a bassa energia (bassa pianura, basse pendenze e/o basso trasporto solido al fondo) e nel caso di corsi d'acqua di risorgiva",null,null,null,null,null,null,null,null,null,"conf tra A e C"]
[]
[]
["NOTE:"]
[]
[]
["F5","Presenza di una fascia potenzialmente erodibile",null,null,null,null,"pt","scelta","conf","ptconf",null,null,null,{"$f":"A43","v":"F5"},{"$f":"SUMIF(H44:H49,\"x\",G44:G49)","v":0},{"$f":"IF(COUNTIF(H44:H49,\"x\")=0,MAX(G44:G49),0)","v":3},{"$f":"MAX(G44:G49)","v":3},{"$f":"IF(SUM(J45:J48)<>0,SUM(J45:J48),0)","v":0},{"$f":"IF(R43<0,O43,O43+R43)","v":0},{"$f":"IF(R43>0,O43,O43+R43)","v":0}]
["A","Presenza fascia potenzialmente erodibile ampia e per >66% tratto",null,null,null,null,0," ",null,null,{"$f":"IF(COUNTIF(H44:H49,\"x\")>1,\"ERRORE SELEZIONE MULTIPLA!\",\"\")","v":""}]
[null,null,null,null,null,null,null,null,null,{"$f":"IF(OR(I45=\"\",H44=H46),\"\",IF(H44=\"x\",G46-G44,G44-G46))","v":""}]
["B","Presenza fascia erodibile ristretta o ampia ma per 33÷66% tratto",null,null,null,null,2," "]
[null,null,null,null,null,null,null,null,null,{"$f":"IF(OR(I47=\"\",H46=H48),\"\",IF(H46=\"x\",G48-G46,G46-G48))","v":""}]
["C","Presenza fascia potenzialmente erodibile di qualunque ampiezza per ≤33% tratto",null,null,null,null,3]
[]
[]
["NOTE:"]
[]
[]
["MORFOLOGIA"]
["Configurazione morfologica"]
["F7","Forme e processi tipici della configurazione morfologica",null,null,null,null,"pt","scelta","conf","ptconf",null,null,null,{"$f":"A56","v":"F7"},{"$f":"SUMIF(H57:H62,\"x\",G57:G62)","v":0},{"$f":"IF(COUNTIF(H57:H62,\"x\")=0,MAX(G57:G62),0)","v":5},{"$f":"MAX(G57:G62)","v":5},{"$f":"IF(SUM(J58:J61)<>0,SUM(J58:J61),0)","v":0},{"$f":"IF(R56<0,O56,O56+R56)","v":0},{"$f":"IF(R56>0,O56,O56+R56)","v":0}]
["A","Assenza (≤5%) di alterazioni della naturale eterogeneità di forme attesa per la tipologia fluviale",null,null,null,0,0,null,null,null,{"$f":"IF(COUNTIF(H57:H62,\"x\")>1,\"ERRORE SELEZIONE MULTIPLA!\",\"\")","v":""}]
[null,null,null,null,null,null,null,null,null,{"$f":"IF(OR(I58=\"\",H57=H59),\"\",IF(H57=\"x\",G59-G57,G57-G59))","v":""}]
["B","Alterazioni per porzione limitata del tratto (≤33%)",null,null,null,3,3," "]
[null,null,null,null,null,null,null,null,null,{"$f":"IF(OR(I60=\"\",H59=H61),\"\",IF(H59=\"x\",G61-G59,G59-G61))","v":""}]
["C","Consistenti alterazioni per porzione significativa del tratto (>33%)",null,null,null,5,5]
[]
[]
["NOTE:"]
[]
[]
["F8","Presenza di forme tipiche di pianura",null,null,null,null,"pt","scelta","conf","ptconf",null,null,null,{"$f":"A67","v":"F8"},{"$f":"SUMIF(H68:H73,\"x\",G68:G73)","v":0},{"$f":"IF(COUNTIF(H68:H73,\"x\")=0,MAX(G68:G73),0)","v":3},{"$f":"MAX(G68:G73)","v":3},{"$f":"IF(SUM(J69:J72)<>0,SUM(J69:J72),0)","v":0},{"$f":"IF(R67<0,O67,O67+R67)","v":0},{"$f":"IF(R67>0,O67,O67+R67)","v":0}]
["A","Presenti forme di pianura attuali (laghi meandro abbandonato, canali secondari, ecc.)",null,null,null,0,0," ",null,null,{"$f":"IF(COUNTIF(H68:H73,\"x\")>1,\"ERRORE SELEZIONE MULTIPLA!\",\"\")","v":""}]
[null,null,null,null,null,null,null,null,null,{"$f":"IF(OR(I69=\"\",H68=H70),\"\",IF(H68=\"x\",G70-G68,G68-G70))","v":""}]
["B","Presenti tracce forme pianura non attuali (abbandonate dopo anni '50 circa) ma riattivabili",null,null,null,2,2]
[null,null,null,null,null,null,null,null,null,{"$f":"IF(OR(I71=\"\",H70=H72),\"\",IF(H70=\"x\",G72-G70,G70-G72))","v":""}]
["C","Completa assenza di forme di pianura attuali o riattivabili",null,null,null,3,3]
[]
["Si valuta solo per fiumi meandriformi (oggi e/o in passato), escluso il caso di corsi d'acqua di risorgiva."]
[]
["NOTE:"]
[]
[]
["Configurazione sezione"]
["F9","Variabilità della sezione",null,null,null,null,"pt","scelta","conf","ptconf",null,null,null,{"$f":"A80","v":"F9"},{"$f":"SUMIF(H81:H86,\"x\",G81:G86)","v":0},{"$f":"IF(COUNTIF(H81:H86,\"x\")=0,MAX(G81:G86),0)","v":5},{"$f":"MAX(G81:G86)","v":5},{"$f":"IF(SUM(J82:J85)<>0,SUM(J82:J85),0)","v":0},{"$f":"IF(R80<0,O80,O80+R80)","v":0},{"$f":"IF(R80>0,O80,O80+R80)","v":0}]
["A","Assenza o presenza localizzata (≤5% tratto) di alterazioni naturale eterogeneità della sezione",null,null,null,0,0," ",null,null,{"$f":"IF(COUNTIF(H81:H86,\"x\")>1,\"ERRORE SELEZIONE MULTIPLA!\",\"\")","v":""}]
[null,null,null,null,null,null,null,null,null,{"$f":"IF(OR(I82=\"\",H81=H83),\"\",IF(H81=\"x\",G83-G81,G81-G83))","v":""}]
["B","Presenza di alterazioni (omogeneità sezione) per porzione limitata del tratto (≤33%)",null,null,null,3,3]
[null,null,null,null,null,null,null,null,null,{"$f":"IF(OR(I84=\"\",H83=H85),\"\",IF(H83=\"x\",G85-G83,G83-G85))","v":""}]
["C","Presenza di alterazioni (omogeneità sezione) per porzione significativa del tratto (>33%)",null,null,null,5,5," "]
[]
["Non si valuta in caso di alvei rettilinei, sinuosi, meandriformi o anabranching per loro natura privi di barre (bassa pianura, basse pendenze e/o basso trasporto al fondo) e nel caso di corsi d'acqua di risorgiva (naturale omogeneità di sezione)."]
[]
[]
["NOTE:"]
[]
[]
["Struttura e substrato alveo"]
["F10","Struttura del substrato",null,null,null,null,"pt","scelta","conf","ptconf",null,null,null,{"$f":"A94","v":"F10"},{"$f":"SUMIF(H95:H102,\"x\",G95:G102)","v":0},{"$f":"IF(COUNTIF(H95:H102,\"x\")=0,MAX(G95:G102),0)","v":6},{"$f":"MAX(G95:G102)","v":6},{"$f":"IF(SUM(J96:J101)<>0,SUM(J96:J101),0)","v":0},{"$f":"IF(R94<0,O94,O94+R94)","v":0},{"$f":"IF(R94>0,O94,O94+R94)","v":0}]
["A","Naturale eterogeneità sedimenti e clogging poco significativo",null,null,null,0,0,null,null,null,{"$f":"IF(COUNTIF(H95:H102,\"x\")>1,\"ERRORE SELEZIONE MULTIPLA!\",\"\")","v":""}]
[null,null,null,null,null,null,null,null,null,{"$f":"IF(OR(I96=\"\",H95=H97),\"\",IF(H95=\"x\",G97-G95,G95-G97))","v":""}]
["B","Corazzamento o clogging accentuato in varie porzioni del sito",null,null,null,3,2," "]
[null,null,null,null,null,null,null,null,null,{"$f":"IF(OR(I98=\"\",H97=H99),\"\",IF(H97=\"x\",G99-G97,G97-G99))","v":""}]
["C1","Corazzamento o clogging accentuato e diffuso (>90%) e/o affioramento occasionale substrato",null,null,null,3,5," "]
[null,null,null,null,null,null,null,null,null,{"$f":"IF(OR(I100=\"\",H99=H101),\"\",IF(H99=\"x\",G101-G99,G99-G101))","v":""}]
["C2","Affioramento diffuso del substrato per incisione o rivestimento fondo (>33% tratto)",null,null,null,3,6," "]
[]
["Non si valuta nel caso di fondo sabbioso, nonché di corso d'acqua profondo per il quale non è possibile osservare il fondo."]
[]
[]
["NOTE:"]
[]
[]
["F11","Presenza di materiale legnoso di grandi dimensioni",null,null,null,null,"pt","scelta","conf","ptconf",null,null,null,{"$f":"A109","v":"F11"},{"$f":"SUMIF(H110:H113,\"x\",G110:G113)","v":0},{"$f":"IF(COUNTIF(H110:H113,\"x\")=0,MAX(G110:G113),0)","v":3},{"$f":"MAX(G110:G113)","v":3},{"$f":"IF(SUM(J111)<>0,SUM(J111),0)","v":0},{"$f":"IF(R109<0,O109,O109+R109)","v":0},{"$f":"IF(R109>0,O109,O109+R109)","v":0}]
["A","Presenza significativa di materiale legnoso",null,null,null,0,0,null,null,null,{"$f":"IF(COUNTIF(H110:H113,\"x\")>1,\"ERRORE SELEZIONE MULTIPLA!\",\"\")","v":""}]
[null,null,null,null,null,null,null,null,null,{"$f":"IF(OR(I111=\"\",H110=H112),\"\",IF(H110=\"x\",G112-G110,G110-G112))","v":""}]
["C","Presenza molto limitata o assenza di materiale legnoso",null,null,null,3,3]
[]
["Non si valuta al di sopra del limite del bosco o in corsi d'acqua con naturale assenza di vegetazione perifluviale."]
[]
[]
["NOTE:"]
[]
[]
["VEGETAZIONE FASCIA PERIFLUVIALE"]
[]
["F12","Ampiezza delle formazioni funzionali presenti in fascia perifluviale",null,null,null,null,"pt","scelta","conf","ptconf",null,null,null,{"$f":"A122","v":"F12"},{"$f":"SUMIF(H123:H128,\"x\",G123:G128)","v":0},{"$f":"IF(COUNTIF(H123:H128,\"x\")=0,MAX(G123:G128),0)","v":3},{"$f":"MAX(G123:G128)","v":3},{"$f":"IF(SUM(J124:J127)<>0,SUM(J124:J127),0)","v":0},{"$f":"IF(R122<0,O122,O122+R122)","v":0},{"$f":"IF(R122>0,O122,O122+R122)","v":0}]
["A","Ampiezza di formazioni funzionali elevata",null,null,null,null,0," ",null,null,{"$f":"IF(COUNTIF(H123:H128,\"x\")>1,\"ERRORE SELEZIONE MULTIPLA!\",\"\")","v":""}]
[null,null,null,null,null,null,null,null,null,{"$f":"IF(OR(I124=\"\",H123=H125),\"\",IF(H123=\"x\",G125-G123,G123-G125))","v":""}]
["B","Ampiezza di formazioni funzionali intermedia",null,null,null,null,2]
[null,null,null,null,null,null,null,null,null,{"$f":"IF(OR(I126=\"\",H125=H127),\"\",IF(H125=\"x\",G127-G125,G125-G127))","v":""}]
["C","Ampiezza di formazioni funzionali limitata",null,null,null,null,3]
[]
["Non si valuta al di sopra del limite del bosco o in corsi d’acqua con naturale assenza di vegetazione perifluviale"]
[]
[]
["NOTE:"]
[]
[]
["F13","Estensione lineare delle formazioni funzionali presenti lungo le sponde",null,null,null,null,"pt","scelta","conf","ptconf",null,null,null,{"$f":"A135","v":"F13"},{"$f":"SUMIF(H136:H141,\"x\",G136:G141)","v":0},{"$f":"IF(COUNTIF(H136:H141,\"x\")=0,MAX(G136:G141),0)","v":5},{"$f":"MAX(G136:G141)","v":5},{"$f":"IF(SUM(J137:J140)<>0,SUM(J137:J140),0)","v":0},{"$f":"IF(R135<0,O135,O135+R135)","v":0},{"$f":"IF(R135>0,O135,O135+R135)","v":0}]
["A","Estensione lineare formazioni funzionali >90% lunghezza massima disponibile",null,null,null,null,0," ",null,null,{"$f":"IF(COUNTIF(H136:H141,\"x\")>1,\"ERRORE SELEZIONE MULTIPLA!\",\"\")","v":""}]
[null,null,null,null,null,null,null,null,null,{"$f":"IF(OR(I137=\"\",H136=H138),\"\",IF(H136=\"x\",G138-G136,G136-G138))","v":""}]
["B","Estensione lineare formazioni funzionali 33÷90% lunghezza massima disponibile",null,null,null,null,3]
[null,null,null,null,null,null,null,null,null,{"$f":"IF(OR(I139=\"\",H138=H140),\"\",IF(H138=\"x\",G140-G138,G138-G140))","v":""}]
["C","Estensione lineare formazioni funzionali ≤33% lunghezza massima disponibile",null,null,null,null,5]
[]
["Non si valuta al di sopra del limite del bosco o in corsi d’acqua con naturale assenza di vegetazione perifluviale"]
[]
[]
["NOTE:"]
[null,null,null,null,null,null,null,null,null,null,null,null,null,null,"SF tot","Sna(F)","Max(SFtot)","conf+","conf-"]
[null,null,null,null,null,null,null,null,null,null,null,null,null,"F",{"$f":"SUM(O1:O135)","v":0},{"$f":"SUM(P1:P135)","v":46},{"$f":"SUM(Q1:Q135)","v":46},{"$f":"SUMIF(R1:R135,\">0\",R1:R135)","v":0},{"$f":"SUMIF(R1:R135,\"<0\",R1:R135)","v":0}]
[]
[null,null,null,null,null,null,null,null,null,null,"NUM ERRORI"]
[null,null,null,null,null,null,null,null,null,null,{"$f":"COUNTIF(K7:M149,\"ERRORE SELEZIONE MULTIPLA!\")","v":0}]

{"sheet":"ARTIFICIALITÀ","index":3,"n_rows":166,"n_cols":20,"rows_kept":166,"cut":false,"hidden":false,"merged":[[152,10,157,12],[32,10,37,12],[109,1,109,5],[110,10,117,12],[128,10,133,12],[85,10,90,12],[47,9,50,9],[139,10,144,12],[88,9,89,9],[100,9,101,9],[102,9,103,9],[142,9,143,9],[115,9,116,9],[99,10,104,12],[140,9,141,9],[33,9,34,9],[72,10,77,12],[73,9,74,9],[111,9,112,9],[113,9,114,9],[129,9,130,9],[131,9,132,9],[127,1,127,5],[129,8,130,8],[116,1,117,5],[132,7,133,7],[114,7,115,7],[130,1,131,5],[86,9,87,9],[85,6,86,6],[35,9,36,9],[44,9,46,9],[156,0,157,0],[156,1,157,5],[141,1,142,5],[141,6,142,6],[141,7,142,7],[142,8,143,8],[143,0,144,0],[110,6,111,6],[153,9,154,9],[155,9,156,9],[138,1,138,5],[141,0,142,0],[145,0,146,7],[131,8,132,8],[140,8,141,8],[118,0,119,5],[139,0,140,0],[154,0,155,0],[130,0,131,0],[154,1,155,5],[75,9,76,9],[112,0,113,0],[103,0,104,0],[156,7,157,7],[143,7,144,7],[152,7,153,7],[153,8,154,8],[130,6,131,6],[130,7,131,7],[156,6,157,6],[139,6,140,6],[143,6,144,6],[139,7,140,7],[154,6,155,6],[154,7,155,7],[132,0,133,0],[132,1,133,5],[132,6,133,6],[151,1,151,5],[139,1,140,5],[152,0,153,0],[152,1,153,5],[152,6,153,6],[143,1,144,5],[155,8,156,8],[53,6,54,6],[128,0,129,0],[128,1,129,5],[128,6,129,6],[76,0,77,0],[120,0,121,7],[76,7,77,7],[87,7,88,7],[114,1,115,5],[110,7,111,7],[112,6,113,6],[112,7,113,7],[116,7,117,7],[116,6,117,6],[128,7,129,7],[118,6,119,6],[118,7,119,7],[114,6,115,6],[126,0,126,8],[112,1,113,5],[110,0,111,0],[110,1,111,5],[101,1,102,5],[101,6,102,6],[59,1,59,5],[71,1,71,5],[45,0,48,0],[72,0,73,0],[60,1,61,5],[72,1,73,5],[76,1,77,5],[74,0,75,0],[74,1,75,5],[49,0,52,0],[49,1,52,5],[53,0,54,5],[49,6,52,6],[78,0,79,5],[78,6,79,6],[10,8,11,8],[35,8,36,8],[0,0,1,9],[17,9,18,9],[21,9,22,9],[15,1,15,5],[16,0,17,0],[20,7,21,7],[43,6,44,6],[34,7,35,7],[34,1,35,5],[37,8,38,8],[33,8,34,8],[23,8,24,8],[43,7,44,7],[42,1,42,5],[43,0,44,0],[43,1,44,5],[2,0,2,8],[22,1,23,5],[24,1,25,5],[24,6,25,6],[24,7,25,7],[7,7,8,7],[3,0,3,8],[4,1,4,5],[5,0,6,0],[5,6,6,6],[5,7,6,7],[6,8,7,8],[7,0,8,0],[5,1,6,5],[7,1,8,5],[8,8,9,8],[158,0,159,7],[70,0,70,8],[64,7,65,7],[60,0,61,0],[115,8,116,8],[113,8,114,8],[111,8,112,8],[72,7,73,7],[62,7,63,7],[63,8,64,8],[114,0,115,0],[116,0,117,0],[91,7,92,7],[62,6,63,6],[62,0,63,0],[64,0,65,0],[74,6,75,6],[85,0,86,0],[84,1,84,5],[99,6,100,6],[64,1,65,5],[103,6,104,6],[87,0,88,0],[87,1,88,5],[100,8,101,8],[91,6,92,6],[99,7,100,7],[85,7,86,7],[89,7,90,7],[86,8,87,8],[88,8,89,8],[101,7,102,7],[102,8,103,8],[97,0,97,8],[91,0,92,5],[85,1,86,5],[103,7,104,7],[103,1,104,5],[87,6,88,6],[101,0,102,0],[98,1,98,5],[99,0,100,0],[99,1,100,5],[89,1,90,5],[89,6,90,6],[89,0,90,0],[78,7,79,7],[60,6,61,6],[60,7,61,7],[29,13,30,13],[33,13,34,13],[44,13,45,13],[30,0,30,8],[31,1,31,5],[32,0,33,0],[37,9,38,9],[36,6,37,6],[36,7,37,7],[32,6,33,6],[64,6,65,6],[62,1,63,5],[73,8,74,8],[74,7,75,7],[75,8,76,8],[76,6,77,6],[72,6,73,6],[36,0,37,0],[63,9,64,9],[43,10,52,12],[61,9,62,9],[18,7,19,7],[36,1,37,5],[45,1,48,5],[20,6,21,6],[34,0,35,0],[34,6,35,6],[39,0,40,8],[27,0,28,8],[53,7,54,7],[44,8,46,8],[47,8,50,8],[51,8,52,8],[22,0,23,0],[24,0,25,0],[20,1,21,5],[18,1,19,5],[18,6,19,6],[18,13,19,13],[9,0,10,0],[9,1,10,5],[9,6,10,6],[9,7,10,7],[5,10,10,12],[16,10,25,12],[6,9,7,9],[8,9,9,9],[20,13,21,13],[5,13,6,13],[7,13,8,13],[9,13,10,13],[16,13,17,13],[19,9,20,9],[10,9,11,9],[23,9,24,9],[7,6,8,6],[16,1,17,5],[16,6,17,6],[16,7,17,7],[21,8,22,8],[17,8,18,8],[19,8,20,8],[61,8,62,8],[46,13,47,13],[55,13,56,13],[57,13,58,13],[60,10,65,12],[12,0,13,8],[161,0,162,8],[148,0,149,8],[135,0,136,8],[123,0,124,8],[106,0,107,8],[94,0,95,8],[81,0,82,8],[67,0,68,8],[56,0,57,8],[49,7,52,7],[45,6,48,6],[45,7,48,7],[32,1,33,5],[22,6,23,6],[22,7,23,7],[32,7,33,7],[18,0,19,0],[20,0,21,0]]}
["ARTIFICIALITÀ"]
[]
[]
["Opere di alterazione della continuità longitudinale a monte",null,null,null,null,null,"parz.","prog.","conf.",null,null,null,null,null,"SA tot","Sna(A)","Max(SAtot)","conf","Amax","Amin"]
["A1","Opere di alterazione delle portate liquide",null,null,null,null,"pt","scelta","conf","ptconf",null,null,null,{"$f":"A5","v":"A1"},{"$f":"SUMIF(H6:H11,\"x\",G6:G11)","v":0},{"$f":"IF(COUNTIF(H6:H11,\"x\")=0,MAX(G6:G11),0)","v":6},{"$f":"MAX(G6:G11)","v":6},{"$f":"IF(SUM(J7:J12)<>0,SUM(J7:J12),0)","v":0},{"$f":"IF(R5<0,O5,O5+R5)","v":0},{"$f":"IF(R5>0,O5,O5+R5)","v":0}]
["A","Alterazioni nulle o poco significative (≤10%) delle portate formative e con TR>10 anni",null,null,null,null,0,null,null,null,{"$f":"IF(COUNTIF(H6:H11,\"x\")>1,\"ERRORE SELEZIONE MULTIPLA!\",\"\")","v":""}]
[null,null,null,null,null,null,null,null,null,{"$f":"IF(OR(I7=\"\",H6=H8),\"\",IF(H6=\"x\",G8-G6,G6-G8))","v":""}]
["B","Alterazioni significative (>10%) delle portate con TR>10 anni",null,null,null,null,3," "]
[null,null,null,null,null,null,null,null,null,{"$f":"IF(OR(I9=\"\",H8=H10),\"\",IF(H8=\"x\",G10-G8,G8-G10))","v":""}]
["C","Alterazioni significative (>10%) delle portate formative",null,null,null,null,6]
[null,null,null,null,null,null,null,null,null,{"$f":"IF(OR(I11=\"\",H6=H10),\"\",IF(H6=\"x\",G10-G6,G6-G10))","v":""}]
[null,null,null,null,null,null,null,null,null,null,"conf tra A e C"]
["NOTE:"]
[]
[]
["A2","Opere di alterazione delle portate solide",null,null,null,null,"pt","scelta","conf","ptconf",null,null,null,{"$f":"A16","v":"A2"},{"$f":"SUMIF(H17:H26,\"x\",G17:G26)","v":0},{"$f":"IF(COUNTIF(H17:H26,\"x\")=0,MAX(G17:G26),0)","v":12},{"$f":"MAX(G17:G26)","v":12},{"$f":"IF(SUM(J18:J25)<>0,SUM(J18:J25),0)","v":0},{"$f":"IF(R16<0,O16,O16+R16)","v":0},{"$f":"IF(R16>0,O16,O16+R16)","v":0}]
["A","Assenza di opere di alterazione del flusso di sedimenti o presenza trascurabile\n (dighe con area sottesa <5% e/o altre opere trasversali con area sottesa <33%)",null,null,null,null,0,null,null,null,{"$f":"IF(COUNTIF(H17:H26,\"x\")>1,\"ERRORE SELEZIONE MULTIPLA!\",\"\")","v":""}]
[null,null,null,null,null,null,null,null,null,{"$f":"IF(OR(I18=\"\",H17=H19),\"\",IF(H17=\"x\",G19-G17,G17-G19))","v":""}]
["B1","Presenza di dighe (area sottesa 5÷33%) e/o opere con totale intercettazione (area 33-66%)\ne/o opere con intercettazione parziale/nulla (area >33% pianura/collina o >66% ambito montano)",null,null,null,null,3," "]
[null,null,null,null,null,null,null,null,null,{"$f":"IF(OR(I20=\"\",H19=H21),\"\",IF(H19=\"x\",G21-G19,G19-G21))","v":""}]
["B2","Presenza di dighe (area sottesa 33÷66%) e/o opere con totale intercettazione\n(area sottesa >66% o all'estremità a monte del tratto)",null,null,null,null,6," "]
[null,null,null,null,null,null,null,null,null,{"$f":"IF(OR(I22=\"\",H21=H23),\"\",IF(H21=\"x\",G23-G21,G21-G23))","v":""}]
["C1","Presenza di dighe (area sottesa >66%)",null,null,null,null,9]
[null,null,null,null,null,null,null,null,null,{"$f":"IF(OR(I24=\"\",H23=H25),\"\",IF(H23=\"x\",G25-G23,G23-G25))","v":""}]
["C2","Presenza di diga all'estremità a monte del tratto",null,null,null,null,12," "]
[]
[]
["NOTE:"]
[]
[]
["Opere di alterazione della continuità longitudinale nel tratto"]
["A3","Opere di alterazione delle portate liquide",null,null,null,null,"pt","scelta","conf","ptconf",null,null,null,{"$f":"A32","v":"A3"},{"$f":"SUMIF(H33:H38,\"x\",G33:G38)","v":0},{"$f":"IF(COUNTIF(H33:H38,\"x\")=0,MAX(G33:G38),0)","v":6},{"$f":"MAX(G33:G38)","v":6},{"$f":"IF(SUM(J34:J39)<>0,SUM(J34:J39),0)","v":0},{"$f":"IF(R32<0,O32,O32+R32)","v":0},{"$f":"IF(R32>0,O32,O32+R32)","v":0}]
["A","Alterazioni nulle o poco significative (≤10%) delle portate formative e con TR>10 anni",null,null,null,null,0,null,null,null,{"$f":"IF(COUNTIF(H33:H38,\"x\")>1,\"ERRORE SELEZIONE MULTIPLA!\",\"\")","v":""}]
[null,null,null,null,null,null,null,null,null,{"$f":"IF(OR(I34=\"\",H33=H35),\"\",IF(H33=\"x\",G35-G33,G33-G35))","v":""}]
["B","Alterazioni significative (>10%) delle portate con TR>10 anni",null,null,null,null,3," "]
[null,null,null,null,null,null,null,null,null,{"$f":"IF(OR(I36=\"\",H35=H37),\"\",IF(H35=\"x\",G37-G35,G35-G37))","v":""}]
["C","Alterazioni significative (>10%) delle portate formative ",null,null,null,null,6," "]
[null,null,null,null,null,null,null,null,null,{"$f":"IF(OR(I38=\"\",H33=H37),\"\",IF(H33=\"x\",G37-G33,G33-G37))","v":""}]
[null,null,null,null,null,null,null,null,null,null,"conf tra A e C"]
["NOTE:"]
[]
[]
["A4","Opere di alterazione delle portate solide",null,null,null,null,"pt","scelta","conf","ptconf",null,null,null,{"$f":"A43","v":"A4"},{"$f":"SUMIF(H44:H55,\"x\",G44:G55)","v":0},{"$f":"IF(COUNTIF(H44:H53,\"x\")=0,MAX(G44:G53),0)","v":6},{"$f":"MAX(G44:G53)","v":6},{"$f":"IF(SUM(J45:J51)<>0,SUM(J45:J51),0)","v":0},{"$f":"IF(R43<0,O43,O43+R43)","v":0},{"$f":"IF(R43>0,O43,O43+R43)","v":0}]
["A","Assenza di qualsiasi tipo di opera di alterazione del flusso di sedimento/legname",null,null,null,null,0," ",null,null,{"$f":"IF(COUNTIF(H44:H53,\"x\")>1,\"ERRORE SELEZIONE MULTIPLA!\",\"\")","v":""}]
[null,null,null,null,null,null,null,null,null,{"$f":"IF(OR(I45=\"\",H44=H46),\"\",IF(H44=\"x\",G46-G44,G44-G46))","v":""}]
["B","Alvei a pendenza ≤1%: presenza briglie, traverse, casse in linea ≤1 ogni 1000 m\nAlvei a pendenza >1%: briglie di consolidamento ≤1 ogni 200 m e/o briglie aperte",null,null,null,null,4]
[]
[null,null,null,null,null,null,null,null,null,{"$f":"IF(OR(I48=\"\",H46=H50),\"\",IF(H46=\"x\",G50-G46,G46-G50))","v":""}]
[]
["C","Alvei a pendenza ≤1%: presenza briglie, traverse, casse in linea >1 ogni 1000 m\nAlvei a pendenza >1%: briglie consolidamento >1 ogni 200 m e/o briglie trattenuta a corpo pieno\noppure presenza di diga e/o invaso artificiale all'estremità a valle del tratto (qualunque pendenza)",null,null,null,null,6," "]
[]
[]
[]
["Nel caso la densità di opere trasversali, incluse soglie e rampe (vedi A9), fosse >1 ogni d (dove d=100 m in alvei a pendenza >1%, o d=500 m in alvei a pendenza alvei a pendenza ≤1%), aggiungere la x accanto al 12",null,null,null,null,null,12]
[]
[]
["NOTE:"]
[]
[]
["A5","Opere di attraversamento",null,null,null,null,"pt","scelta","conf","ptconf",null,null,null,{"$f":"A60","v":"A5"},{"$f":"SUMIF(H61:H66,\"x\",G61:G66)","v":0},{"$f":"IF(COUNTIF(H61:H66,\"x\")=0,MAX(G61:G66),0)","v":3},{"$f":"MAX(G61:G66)","v":3},{"$f":"IF(SUM(J62:J65)<>0,SUM(J62:J65),0)","v":0},{"$f":"IF(R60<0,O60,O60+R60)","v":0},{"$f":"IF(R60>0,O60,O60+R60)","v":0}]
["A","Assenza di opere di attraversamento",null,null,null,null,0," ",null,null,{"$f":"IF(COUNTIF(H61:H66,\"x\")>1,\"ERRORE SELEZIONE MULTIPLA!\",\"\")","v":""}]
[null,null,null,null,null,null,null,null,null,{"$f":"IF(OR(I62=\"\",H61=H63),\"\",IF(H61=\"x\",G63-G61,G61-G63))","v":""}]
["B","Presenza di alcune opere di attraversamento (≤1 ogni 1000 m in media nel tratto)",null,null,null,null,2]
[null,null,null,null,null,null,null,null,null,{"$f":"IF(OR(I64=\"\",H63=H65),\"\",IF(H63=\"x\",G65-G63,G63-G65))","v":""}]
["C","Presenza diffusa di opere di attraversamento (>1 ogni 1000 m in media nel tratto)",null,null,null,null,3]
[]
[]
["NOTE:"]
[]
[]
["Opere di alterazione della continuità laterale"]
["A6","Difese di sponda",null,null,null,null,"pt","scelta","conf","ptconf",null,null,null,{"$f":"A72","v":"A6"},{"$f":"SUMIF(H73:H80,\"x\",G73:G80)","v":0},{"$f":"IF(COUNTIF(H73:H78,\"x\")=0,MAX(G73:G78),0)","v":6},{"$f":"MAX(G73:G78)","v":6},{"$f":"IF(SUM(J74:J77)<>0,SUM(J74:J77),0)","v":0},{"$f":"IF(R72<0,O72,O72+R72)","v":0},{"$f":"IF(R72>0,O72,O72+R72)","v":0}]
["A","Assenza di difese o solo difese localizzate ( ≤5% lunghezza totale delle sponde ovvero somma di entrambe)",null,null,null,null,0,null,null,null,{"$f":"IF(COUNTIF(H73:H78,\"x\")>1,\"ERRORE SELEZIONE MULTIPLA!\",\"\")","v":""}]
[null,null,null,null,null,null,null,null,null,{"$f":"IF(OR(I74=\"\",H73=H75),\"\",IF(H73=\"x\",G75-G73,G73-G75))","v":""}]
["B","Presenza di difese per ≤33% lunghezza totale sponde (ovvero somma di entrambe)",null,null,null,null,3," "]
[null,null,null,null,null,null,null,null,null,{"$f":"IF(OR(I76=\"\",H75=H77),\"\",IF(H75=\"x\",G77-G75,G75-G77))","v":""}]
["C","Presenza di difese per >33% lunghezza totale sponde (ovvero somma di entrambe)",null,null,null,null,6]
[]
["Nel caso di difese di sponda per quasi tutto il tratto (>80%), aggiungere la x accanto al 12",null,null,null,null,null,12]
[]
[]
["NOTE:"]
[]
[]
["A7","Arginature",null,null,null,null,"pt","scelta","conf","ptconf",null,null,null,{"$f":"A85","v":"A7"},{"$f":"SUMIF(H86:H93,\"x\",G86:G93)","v":0},{"$f":"IF(COUNTIF(H86:H91,\"x\")=0,MAX(G86:G91),0)","v":6},{"$f":"MAX(G86:G91)","v":6},{"$f":"IF(SUM(J87:J90)<>0,SUM(J87:J90),0)","v":0},{"$f":"IF(R85<0,O85,O85+R85)","v":0},{"$f":"IF(R85>0,O85,O85+R85)","v":0}]
["A","Argini assenti o distanti oppure presenza argini vicini o a contatto ≤10% lunghezza sponde",null,null,null,null,0,null,null,null,{"$f":"IF(COUNTIF(H86:H91,\"x\")>1,\"ERRORE SELEZIONE MULTIPLA!\",\"\")","v":""}]
[null,null,null,null,null,null,null,null,null,{"$f":"IF(OR(I87=\"\",H86=H88),\"\",IF(H86=\"x\",G88-G86,G86-G88))","v":""}]
["B","Argini a contatto ≤50%, oppure ≤33% con totale vicini e a contatto >90%",null,null,null,null,3," "]
[null,null,null,null,null,null,null,null,null,{"$f":"IF(OR(I89=\"\",H88=H90),\"\",IF(H88=\"x\",G90-G88,G88-G90))","v":""}]
["C","Argini a contatto >50%, oppure >33% con totale vicini e a contatto >90%",null,null,null,null,6]
[]
["Nel caso di argini a contatto per quasi tutto il tratto (>80%), aggiungere la x accanto al 12",null,null,null,null,null,12]
[]
[]
["NOTE:"]
[]
[]
["Opere di alterazione della morfologia dell'alveo e/o del substrato"]
["A8","Variazioni artificiali di tracciato",null,null,null,null,"pt","scelta","conf","ptconf",null,null,null,{"$f":"A99","v":"A8"},{"$f":"SUMIF(H100:H105,\"x\",G100:G105)","v":0},{"$f":"IF(COUNTIF(H100:H105,\"x\")=0,MAX(G100:G105),0)","v":3},{"$f":"MAX(G100:G105)","v":3},{"$f":"IF(SUM(J101:J104)<>0,SUM(J101:J104),0)","v":0},{"$f":"IF(R99<0,O99,O99+R99)","v":0},{"$f":"IF(R99>0,O99,O99+R99)","v":0}]
["A","Assenza di variazioni artificiali di tracciato note in passato (tagli meandri, spostamenti alveo, ecc.)",null,null,null,null,0,null,null,null,{"$f":"IF(COUNTIF(H100:H105,\"x\")>1,\"ERRORE SELEZIONE MULTIPLA!\",\"\")","v":""}]
[null,null,null,null,null,null,null,null,null,{"$f":"IF(OR(I101=\"\",H100=H102),\"\",IF(H100=\"x\",G102-G100,G100-G102))","v":""}]
["B","Presenza di variazioni di tracciato per ≤10% lunghezza tratto",null,null,null,null,2," "]
[null,null,null,null,null,null,null,null,null,{"$f":"IF(OR(I103=\"\",H102=H104),\"\",IF(H102=\"x\",G104-G102,G102-G104))","v":""}]
["C","Presenza di variazioni di tracciato per >10% lunghezza tratto",null,null,null,null,3]
[]
[]
["NOTE:"]
[]
[]
["A9","Altre opere di consolidamento e/o di alterazione del substrato",null,null,null,null,"pt","scelta","conf","ptconf",null,null,null,{"$f":"A110","v":"A9"},{"$f":"SUMIF(H111:H122,\"x\",G111:G122)","v":0},{"$f":"IF(COUNTIF(H111:H118,\"x\")=0,MAX(G111:G118),0)","v":8},{"$f":"MAX(G111:G118)","v":8},{"$f":"IF(SUM(J112:J117)<>0,SUM(J112:J117),0)","v":0},{"$f":"IF(R110<0,O110,O110+R110)","v":0},{"$f":"IF(R110>0,O110,O110+R110)","v":0}]
["A","Assenza soglie o rampe e rivestimenti assenti o localizzati (≤5% tratto)",null,null,null,0,0,null,null,null,{"$f":"IF(COUNTIF(H111:H118,\"x\")>1,\"ERRORE SELEZIONE MULTIPLA!\",\"\")","v":""}]
[null,null,null,null,null,null,null,null,null,{"$f":"IF(OR(I112=\"\",H111=H113),\"\",IF(H111=\"x\",G113-G111,G111-G113))","v":""}]
["B","Presenza soglie o rampe (≤1 ogni d) e/o rivestimenti ≤25% permeabili e/o ≤15% impermeabili",null,null,null,3,3," "]
[null,null,null,null,null,null,null,null,null,{"$f":"IF(OR(I114=\"\",H113=H115),\"\",IF(H113=\"x\",G115-G113,G113-G115))","v":""}]
["C1","Presenza soglie o rampe (>1 ogni d) e/o rivestimenti ≤50% permeabili e/o ≤33% impermeabili",null,null,null,6,6," "]
[null,null,null,null,null,null,null,null,null,{"$f":"IF(OR(I116=\"\",H115=H117),\"\",IF(H115=\"x\",G117-G115,G115-G117))","v":""}]
["C2","Presenza di rivestimenti >50% permeabili e/o >33% impermeabili",null,null,null,null,8]
[]
["Nel caso di rivestimenti del fondo (permeabili e/o impermeabili) per quasi tutto il tratto (>80%), aggiungere la x accanto al 12",null,null,null,null,null,12]
[]
["d=200 m in alvei a pendenza >1%\nd=1000 m in alvei a pendenza  ≤1%"]
[]
[]
["NOTE:"]
[]
[]
["Interventi di manutenzione e prelievo"]
["A10","Rimozione di sedimenti",null,null,null,null,"pt","scelta","conf","ptconf",null,null,null,{"$f":"A128","v":"A10"},{"$f":"SUMIF(H129:H134,\"x\",G129:G134)","v":0},{"$f":"IF(COUNTIF(H129:H134,\"x\")=0,MAX(G129:G134),0)","v":6},{"$f":"MAX(G129:G134)","v":6},{"$f":"IF(SUM(J130:J133)<>0,SUM(J130:J133),0)","v":0},{"$f":"IF(R128<0,O128,O128+R128)","v":0},{"$f":"IF(R128>0,O128,O128+R128)","v":0}]
["A","Assenza di significativa attività di rimozione recente (ultimi 20 anni) e in passato (da anni '50)",null,null,null,null,0,null,null,null,{"$f":"IF(COUNTIF(H129:H134,\"x\")>1,\"ERRORE SELEZIONE MULTIPLA!\",\"\")","v":""}]
[null,null,null,null,null,null,null,null,null,{"$f":"IF(OR(I130=\"\",H129=H131),\"\",IF(H129=\"x\",G131-G129,G129-G131))","v":""}]
["B","Moderata attività in passato ma assente di recente (ultimi 20 anni), oppure assente in passato ma presente di recente",null,null,null,null,3]
[null,null,null,null,null,null,null,null,null,{"$f":"IF(OR(I132=\"\",H131=H133),\"\",IF(H131=\"x\",G133-G131,G131-G133))","v":""}]
["C","Intensa attività in passato oppure moderata in passato e presente di recente",null,null,null,null,6," "]
[]
[]
["NOTE:"]
[]
[]
["A11","Rimozione di materiale legnoso",null,null,null,null,"pt","scelta","conf","ptconf",null,null,null,{"$f":"A139","v":"A11"},{"$f":"SUMIF(H140:H145,\"x\",G140:G145)","v":0},{"$f":"IF(COUNTIF(H140:H145,\"x\")=0,MAX(G140:G145),0)","v":5},{"$f":"MAX(G140:G145)","v":5},{"$f":"IF(SUM(J141:J144)<>0,SUM(J141:J144),0)","v":0},{"$f":"IF(R139<0,O139,O139+R139)","v":0},{"$f":"IF(R139>0,O139,O139+R139)","v":0}]
["A","Assenza di interventi di rimozione di materiale legnoso almeno negli ultimi 20 anni",null,null,null,null,0," ",null,null,{"$f":"IF(COUNTIF(H140:H145,\"x\")>1,\"ERRORE SELEZIONE MULTIPLA!\",\"\")","v":""}]
[null,null,null,null,null,null,null,null,null,{"$f":"IF(OR(I141=\"\",H140=H142),\"\",IF(H140=\"x\",G142-G140,G140-G142))","v":""}]
["B","Rimozione parziale negli ultimi 20 anni",null,null,null,null,2]
[null,null,null,null,null,null,null,null,null,{"$f":"IF(OR(I143=\"\",H142=H144),\"\",IF(H142=\"x\",G144-G142,G142-G144))","v":""}]
["C","Rimozione totale negli ultimi 20 anni",null,null,null,null,5]
[]
["Non si valuta al di sopra del limite del bosco o in corsi d’acqua con naturale assenza di vegetazione perifluviale"]
[]
[]
["NOTE:"]
[]
[]
["A12","Taglio della vegetazione in fascia perifluviale",null,null,null,null,"pt","scelta","conf","ptconf",null,null,null,{"$f":"A152","v":"A12"},{"$f":"SUMIF(H153:H158,\"x\",G153:G158)","v":0},{"$f":"IF(COUNTIF(H153:H158,\"x\")=0,MAX(G153:G158),0)","v":5},{"$f":"MAX(G153:G158)","v":5},{"$f":"IF(SUM(J154:J157)<>0,SUM(J154:J157),0)","v":0},{"$f":"IF(R152<0,O152,O152+R152)","v":0},{"$f":"IF(R152>0,O152,O152+R152)","v":0}]
["A","Vegetazione arborea sicuramente non soggetta ad interventi negli ultimi 20 anni",null,null,null,null,0,null,null,null,{"$f":"IF(COUNTIF(H153:H158,\"x\")>1,\"ERRORE SELEZIONE MULTIPLA!\",\"\")","v":""}]
[null,null,null,null,null,null,null,null,null,{"$f":"IF(OR(I154=\"\",H153=H155),\"\",IF(H153=\"x\",G155-G153,G153-G155))","v":""}]
["B","Taglio selettivo nel tratto e/o raso su ≤50% del tratto negli ultimi 20 anni",null,null,null,null,2," "]
[null,null,null,null,null,null,null,null,null,{"$f":"IF(OR(I156=\"\",H155=H157),\"\",IF(H155=\"x\",G157-G155,G155-G157))","v":""}]
["C","Taglio raso su >50% del tratto negli ultimi 20 anni",null,null,null,null,5," "]
[]
["Non si valuta al di sopra del limite del bosco o in corsi d’acqua con naturale assenza di vegetazione perifluviale"]
[]
[]
["NOTE:"]
[]
[null,null,null,null,null,null,null,null,null,null,null,null,null,null,"SA tot","Sna(A)","Max(SAtot)","conf+","conf-"]
[null,null,null,null,null,null,null,null,null,null,"NUM ERRORI",null,null,"A",{"$f":"SUM(O5:O152)","v":0},{"$f":"SUM(P5:P152)","v":72},{"$f":"SUM(Q5:Q152)","v":72},{"$f":"SUMIF(R5:R152,\">0\",R5:R152)","v":0},{"$f":"SUMIF(R5:R152,\"<0\",R5:R152)","v":0}]
[null,null,null,null,null,null,null,null,null,null,{"$f":"COUNTIF(K6:M158,\"ERRORE SELEZIONE MULTIPLA!\")","v":0}]

{"sheet":"VARIAZIONI MORFOLOGICHE","index":4,"n_rows":44,"n_cols":20,"rows_kept":44,"cut":false,"hidden":false,"merged":[[0,0,1,9],[30,6,31,6],[30,7,31,7],[4,10,9,12],[16,10,21,12],[28,10,35,12],[29,8,30,8],[17,8,18,8],[19,8,20,8],[20,0,21,0],[20,6,21,6],[20,7,21,7],[28,6,29,6],[28,7,29,7],[28,1,29,5],[34,0,35,0],[3,1,3,5],[4,0,5,0],[4,1,5,5],[16,0,17,0],[15,1,15,5],[16,1,17,5],[8,1,9,5],[5,8,6,8],[7,8,8,8],[5,9,6,9],[7,9,8,9],[37,0,37,7],[8,0,9,0],[36,0,36,7],[8,7,9,7],[16,7,17,7],[27,1,27,5],[34,6,35,6],[34,7,35,7],[30,0,31,0],[30,1,31,5],[32,0,33,0],[32,1,33,5],[4,7,5,7],[18,6,19,6],[18,7,19,7],[4,6,5,6],[16,6,17,6],[10,0,10,7],[6,6,7,6],[6,7,7,7],[6,0,7,0],[6,1,7,5],[8,6,9,6],[18,0,19,0],[18,1,19,5],[39,0,40,8],[24,0,25,8],[12,0,13,8],[31,8,32,8],[31,9,32,9],[33,8,34,8],[33,9,34,9],[17,9,18,9],[19,9,20,9],[29,9,30,9],[32,6,33,6],[32,7,33,7],[34,1,35,5],[28,0,29,0],[20,1,21,5],[22,0,22,7]]}
["VARIAZIONI MORFOLOGICHE"]
[]
[null,null,null,null,null,null,null,null,null,null,null,null,null,null,"SV tot","Sna(V)","Max(SVtot)","conf","Vmax","Vmin"]
["V1","Variazioni della configurazione morfologica",null,null,null,null,"pt","scelta","conf","ptconf",null,null,null,{"$f":"A4","v":"V1"},{"$f":"SUMIF(H5:H10,\"x\",G5:G10)","v":0},{"$f":"IF(COUNTIF(H5:H10,\"x\")=0,MAX(G5:G10),0)","v":6},{"$f":"MAX(G5:G10)","v":6},{"$f":"IF(SUM(J6:J9)<>0,SUM(J6:J9),0)","v":0},{"$f":"IF(R4<0,O4,O4+R4)","v":0},{"$f":"IF(R4>0,O4,O4+R4)","v":0}]
["A","Assenza di variazioni di configurazione morfologica rispetto ad anni '50 ",null,null,null,null,0,null,null,null,{"$f":"IF(COUNTIF(H5:H10,\"x\")>1,\"ERRORE SELEZIONE MULTIPLA!\",\"\")","v":""}]
[null,null,null,null,null,null,null,null,null,{"$f":"IF(OR(I6=\"\",H5=H7),\"\",IF(H5=\"x\",G7-G5,G5-G7))","v":""}]
["B","Variazioni di configurazione morfologica tra tipologie contigue rispetto ad anni '50",null,null,null,null,3," "]
[null,null,null,null,null,null,null,null,null,{"$f":"IF(OR(I8=\"\",H7=H9),\"\",IF(H7=\"x\",G9-G7,G7-G9))","v":""}]
["C","Variazioni di configurazione morfologica tra tipologie non contigue rispetto ad anni '50",null,null,null,null,6," "]
[]
["Si applica solo ad alvei con larghezza > 30 m"]
[]
["NOTE:"]
[]
[]
["V2","Variazioni di larghezza",null,null,null,null,"pt","scelta","conf","ptconf",null,null,null,{"$f":"A16","v":"V2"},{"$f":"SUMIF(H17:H22,\"x\",G17:G22)","v":0},{"$f":"IF(COUNTIF(H17:H22,\"x\")=0,MAX(G17:G22),0)","v":6},{"$f":"MAX(G17:G22)","v":6},{"$f":"IF(SUM(J18:J21)<>0,SUM(J18:J21),0)","v":0},{"$f":"IF(R16<0,O16,O16+R16)","v":0},{"$f":"IF(R16>0,O16,O16+R16)","v":0}]
["A","Variazioni di larghezza nulle o limitate (≤15%) rispetto ad anni '50",null,null,null,null,0,null,null,null,{"$f":"IF(COUNTIF(H17:H22,\"x\")>1,\"ERRORE SELEZIONE MULTIPLA!\",\"\")","v":""}]
[null,null,null,null,null,null,null,null,null,{"$f":"IF(OR(I18=\"\",H17=H19),\"\",IF(H17=\"x\",G19-G17,G17-G19))","v":""}]
["B","Variazioni di larghezza moderate (15÷35%) rispetto ad anni '50",null,null,null,null,3]
[null,null,null,null,null,null,null,null,null,{"$f":"IF(OR(I20=\"\",H19=H21),\"\",IF(H19=\"x\",G21-G19,G19-G21))","v":""}]
["C","Variazioni di larghezza intense (>35%) rispetto ad anni '50",null,null,null,null,6," "]
[]
["Si applica solo ad alvei con larghezza > 30 m"]
[]
["NOTE:"]
[]
[]
["V3","Variazioni altimetriche",null,null,null,null,"pt","scelta","conf","ptconf",null,null,null,{"$f":"A28","v":"V3"},{"$f":"SUMIF(H29:H36,\"x\",G29:G36)","v":0},{"$f":"IF(COUNTIF(H29:H36,\"x\")=0,MAX(G29:G36),0)","v":12},{"$f":"MAX(G29:G36)","v":12},{"$f":"IF(SUM(J30:J35)<>0,SUM(J30:J35),0)","v":0},{"$f":"IF(R28<0,O28,O28+R28)","v":0},{"$f":"IF(R28>0,O28,O28+R28)","v":0}]
["A","Variazioni della quota del fondo trascurabili (fino 0.5 m)",null,null,null,null,0," ",null,null,{"$f":"IF(COUNTIF(H29:H36,\"x\")>1,\"ERRORE SELEZIONE MULTIPLA!\",\"\")","v":""}]
[null,null,null,null,null,null,null,null,null,{"$f":"IF(OR(I30=\"\",H29=H31),\"\",IF(H29=\"x\",G31-G29,G29-G31))","v":""}]
["B","Variazioni della quota del fondo limitate o moderate (≤ 3 m)",null,null,null,null,4]
[null,null,null,null,null,null,null,null,null,{"$f":"IF(OR(I32=\"\",H31=H33),\"\",IF(H31=\"x\",G33-G31,G31-G33))","v":""}]
["C1","Variazioni della quota del fondo intense (> 3 m)",null,null,null,null,8]
[null,null,null,null,null,null,null,null,null,{"$f":"IF(OR(I34=\"\",H33=H35),\"\",IF(H33=\"x\",G35-G33,G33-G35))","v":""}]
["C2","Variazioni della quota del fondo molto intense (>6 m )",null,null,null,null,12," "]
[]
["Si applica solo ad alvei con larghezza > 30 m"]
["Non si valuta nel caso di assoluta mancanza di dati, informazioni ed evidenze sul terreno"]
[]
["NOTE:"]
[]
[null,null,null,null,null,null,null,null,null,null,null,null,null,null,"SV tot","Sna(V)","Max(SVtot)","conf+","conf-"]
[null,null,null,null,null,null,null,null,null,null,"NUM ERRORI",null,null,"V",{"$f":"SUM(O4:O28)","v":0},{"$f":"SUM(P4:P28)","v":24},{"$f":"SUM(Q4:Q28)","v":24},{"$f":"SUMIF(R4:R28,\">0\",R4:R28)","v":0},{"$f":"SUMIF(R4:R28,\"<0\",R4:R28)","v":0}]
[null,null,null,null,null,null,null,null,null,null,{"$f":"COUNTIF(K5:M36,\"ERRORE SELEZIONE MULTIPLA!\")","v":0}]

{"sheet":"CALC_INDICI","index":5,"n_rows":76,"n_cols":11,"rows_kept":76,"cut":false,"hidden":false,"merged":[]}
["SUB-INDICI VERTICALI"]
[]
["Sub-indice di Funzionalità",null,"Sub-indice di Artificialità",null,"Sub-indice di Variazioni"]
[null,null,null,null,null,null,"S"]
["SFtot = F1+…+F13",{"$f":"FUNZIONALITÀ!O147","v":0},"SAtot = A1+…+A12",{"$f":"ARTIFICIALITÀ!O165","v":0},"SVtot = V1+V2+V3",{"$f":"'VARIAZIONI MORFOLOGICHE'!O43","v":0},{"$f":"SUM(B5,D5,F5)","v":0}]
["[SFtot ]conf-",{"$f":"(B5+FUNZIONALITÀ!S147)","v":0},"[SAtot]conf-",{"$f":"(D5+ARTIFICIALITÀ!S165)","v":0},"[SVtot]conf-",{"$f":"(F5+'VARIAZIONI MORFOLOGICHE'!S43)","v":0},{"$f":"SUM(B6,D6,F6)","v":0}]
["[SFtot]conf+",{"$f":"(B5+ FUNZIONALITÀ!R147)","v":0},"[SAtot]conf+",{"$f":"(D5+ ARTIFICIALITÀ!R165)","v":0},"[SVtot]conf+",{"$f":" (F5+'VARIAZIONI MORFOLOGICHE'!R43)","v":0},0]
["Max(SF tot) = Max(F1)+…+ Max(F13)",{"$f":"FUNZIONALITÀ!Q147","v":46},"Max(SA tot) = Max(A1)+…+ Max(A12)",{"$f":"ARTIFICIALITÀ!Q165","v":72},"Max(SV tot) = Max(V1)+…+ Max(V3)",{"$f":"'VARIAZIONI MORFOLOGICHE'!Q43","v":24},142]
["Sna(F) = S [Max(Fi)non applicati]",{"$f":"FUNZIONALITÀ!P147","v":46},"Sna(A) = S [Max(Ai)non applicati]",{"$f":"ARTIFICIALITÀ!P165","v":72},"Sna(V) = S [Max(Vi)non applicati]",{"$f":"'VARIAZIONI MORFOLOGICHE'!P43","v":24},142]
["SFmax=Max(SFtot)-Sna(F)",{"$f":"B8-B9","v":0},"SAmax=Max(SAtot)-Sna(A)",{"$f":"D8-D9","v":0},"SVmax=Max(SVtot)-Sna(V)",{"$f":"F8-F9","v":0},0]
[]
["IAMF = SFtot/Smax",{"$f":"B5/$C$28","v":{"$error":"#DIV/0!"}},"IAMA = SAtot/Smax",{"$f":"D5/$C$28","v":{"$error":"#DIV/0!"}},"IAMV = SVtot/Smax",{"$f":"F5/$C$28","v":{"$error":"#DIV/0!"}},{"$error":"#DIV/0!"}]
["[IAMF]conf-",{"$f":"B6/$C$28","v":{"$error":"#DIV/0!"}},"[IAMA]conf-",{"$f":"D6/$C$28","v":{"$error":"#DIV/0!"}},"[IAMV]conf-",{"$f":"F6/$C$28","v":{"$error":"#DIV/0!"}},{"$error":"#DIV/0!"}]
["[IAMF]conf+",{"$f":"B7/$C$28","v":{"$error":"#DIV/0!"}},"[IAMA]conf+",{"$f":"D7/$C$28","v":{"$error":"#DIV/0!"}},"[IAMV]conf+",{"$f":"F7/$C$28","v":{"$error":"#DIV/0!"}},{"$error":"#DIV/0!"}]
[]
["IQMF = (SFmax/Smax) - IAMF ",{"$f":"(B10/$C$28)-B12","v":{"$error":"#DIV/0!"}},"IQMA = (SAmax/Smax) - IAMA",{"$f":"(D10/$C$28)-D12","v":{"$error":"#DIV/0!"}},"IQMV = (SVmax/Smax) - IAMV",{"$f":"(F10/$C$28)-F12","v":{"$error":"#DIV/0!"}},{"$error":"#DIV/0!"}]
["[IQMF]conf-",{"$f":"(B10/$C$28)-B13","v":{"$error":"#DIV/0!"}},"[IQMA]conf-",{"$f":"(D10/$C$28)-D13","v":{"$error":"#DIV/0!"}},"[IQMV]conf-",{"$f":"(F10/$C$28)-F13","v":{"$error":"#DIV/0!"}},{"$error":"#DIV/0!"}]
["[IQMF]conf+",{"$f":"(B10/$C$28)-B14","v":{"$error":"#DIV/0!"}},"[IQMA]conf+",{"$f":"(D10/$C$28)-D14","v":{"$error":"#DIV/0!"}},"[IQMV]conf+",{"$f":"(F10/$C$28)-F14","v":{"$error":"#DIV/0!"}},{"$error":"#DIV/0!"}]
[]
["IAMF max = IQMF max = SFmax/Smax",{"$f":"B10/$C$28","v":{"$error":"#DIV/0!"}},"IAMA max = IQMA max = SAmax/Smax",{"$f":"D10/$C$28","v":{"$error":"#DIV/0!"}},"IAMV max = IQMV max = SVmax/Smax",{"$f":"F10/$C$28","v":{"$error":"#DIV/0!"}},{"$error":"#DIV/0!"}]
[]
[]
["Stot = SFtot+SAtot+SVtot ",null,{"$f":"B5+D5+F5","v":0},null,"IAM = Stot/Smax",{"$f":"ROUND(C23/$C$28,2)","v":{"$error":"#DIV/0!"}}]
["[Stot]conf-",null,{"$f":"B6+D6+F6","v":0},null,"IAMmin= [Stot]conf-/Smax",{"$f":"ROUND(C24/$C$28,2)","v":{"$error":"#DIV/0!"}}]
["[Stot]conf+",null,{"$f":"B7+D7+F7","v":0},null,"IAMmax= [Stot]conf+/Smax",{"$f":"ROUND(C25/$C$28,2)","v":{"$error":"#DIV/0!"}}]
["Max(Stot)=Max(SFtot)+Max(SAtot)+Max(SVtot)",null,{"$f":"B8+D8+F8","v":142},null,"IQM = 1 - IAM",{"$f":"1-F23","v":{"$error":"#DIV/0!"}}]
["Sna=(Sna(F)+Sna(A)+Sna(V))",null,{"$f":"B9+D9+F9","v":142},null,"IQMmax= 1-IAMmin",{"$f":"1-F24","v":{"$error":"#DIV/0!"}}]
["Smax = (Max(SFtot)+Max(SAtot)+Max(SVtot)) - (Sna(F)+Sna(A)+Sna(V))",null,{"$f":"C26-C27","v":0},null,"IQMmin= 1-IAMmax",{"$f":"1-F25","v":{"$error":"#DIV/0!"}}]
[]
[]
["SUB-INDICI ORIZZONTALI"]
[]
["Sub-indice di Continuità",null,null,null,"Sub-indice di Morfologia",null,null,null,"Sub-indice di Vegetazione"]
[]
["Continuità longitudinale (CL)",null,null,null,"Configurazione morfologica (CM)",null,null,null,"VEGETAZIONE (VE)"]
["IAMCL = (F1+A1+A2+A3+A4/2+A5)/Smax",null,{"$f":"(VLOOKUP(\"F1\",FUNZIONALITÀ!N6:T135,2,FALSE)+VLOOKUP(\"A1\",ARTIFICIALITÀ!N5:T152,2,FALSE)+VLOOKUP(\"A2\",ARTIFICIALITÀ!N5:T152,2,FALSE)+VLOOKUP(\"A3\",ARTIFICIALITÀ!N5:T152,2,FALSE)+VLOOKUP(\"A4\",ARTIFICIALITÀ!N5:T152,2,FALSE)/2+VLOOKUP(\"A5\",ARTIFICIALITÀ!N5:T152,2,FALSE))/C28","v":{"$error":"#DIV/0!"}},null,"IAMCM = (F6+F7+F8+A6/2+A8+V1)/Smax",null,{"$f":"(VLOOKUP(\"F7\",FUNZIONALITÀ!N6:T135,2,FALSE)+VLOOKUP(\"F8\",FUNZIONALITÀ!N6:T135,2,FALSE)+VLOOKUP(\"A6\",ARTIFICIALITÀ!N5:T152,2,FALSE)/2+VLOOKUP(\"A8\",ARTIFICIALITÀ!N5:T152,2,FALSE)+VLOOKUP(\"V1\",'VARIAZIONI MORFOLOGICHE'!N4:T28,2,FALSE))/C28","v":{"$error":"#DIV/0!"}},null,"IAMVE = (F12+F13+A12)/Smax",null,{"$f":"(VLOOKUP(\"F12\",FUNZIONALITÀ!N6:T135,2,FALSE)+VLOOKUP(\"F13\",FUNZIONALITÀ!N6:T135,2,FALSE)+VLOOKUP(\"A12\",ARTIFICIALITÀ!N5:T152,2,FALSE))/C28","v":{"$error":"#DIV/0!"}}]
["[IAMCL]conf-",null,{"$f":"(VLOOKUP(\"F1\",FUNZIONALITÀ!N6:T135,7,FALSE)+VLOOKUP(\"A1\",ARTIFICIALITÀ!N5:T152,7,FALSE)+VLOOKUP(\"A2\",ARTIFICIALITÀ!N5:T152,7,FALSE)+VLOOKUP(\"A3\",ARTIFICIALITÀ!N5:T152,7,FALSE)+VLOOKUP(\"A4\",ARTIFICIALITÀ!N5:T152,7,FALSE)/2+VLOOKUP(\"A5\",ARTIFICIALITÀ!N5:T152,7,FALSE))/C28","v":{"$error":"#DIV/0!"}},null,"[IAMCM]conf-",null,{"$f":"(VLOOKUP(\"F7\",FUNZIONALITÀ!N6:T135,7,FALSE)+VLOOKUP(\"F8\",FUNZIONALITÀ!N6:T135,7,FALSE)+VLOOKUP(\"A6\",ARTIFICIALITÀ!N5:T152,7,FALSE)/2+VLOOKUP(\"A8\",ARTIFICIALITÀ!N5:T152,7,FALSE)+VLOOKUP(\"V1\",'VARIAZIONI MORFOLOGICHE'!N4:T28,7,FALSE))/C28","v":{"$error":"#DIV/0!"}},null,"[IAMVE]conf-",null,{"$f":"(VLOOKUP(\"F12\",FUNZIONALITÀ!N6:T135,7,FALSE)+VLOOKUP(\"F13\",FUNZIONALITÀ!N6:T135,7,FALSE)+VLOOKUP(\"A12\",ARTIFICIALITÀ!N5:T152,7,FALSE))/C28","v":{"$error":"#DIV/0!"}}]
["[IAMCL]conf+",null,{"$f":"(VLOOKUP(\"F1\",FUNZIONALITÀ!N6:T135,6,FALSE)+VLOOKUP(\"A1\",ARTIFICIALITÀ!N5:T152,6,FALSE)+VLOOKUP(\"A2\",ARTIFICIALITÀ!N5:T152,6,FALSE)+VLOOKUP(\"A3\",ARTIFICIALITÀ!N5:T152,6,FALSE)+VLOOKUP(\"A4\",ARTIFICIALITÀ!N5:T152,6,FALSE)/2+VLOOKUP(\"A5\",ARTIFICIALITÀ!N5:T152,6,FALSE))/C28","v":{"$error":"#DIV/0!"}},null,"[IAMCM]conf+",null,{"$f":"(VLOOKUP(\"F7\",FUNZIONALITÀ!N6:T135,6,FALSE)+VLOOKUP(\"F8\",FUNZIONALITÀ!N6:T135,6,FALSE)+VLOOKUP(\"A6\",ARTIFICIALITÀ!N5:T152,6,FALSE)/2+VLOOKUP(\"A8\",ARTIFICIALITÀ!N5:T152,6,FALSE)+VLOOKUP(\"V1\",'VARIAZIONI MORFOLOGICHE'!N4:T28,6,FALSE))/C28","v":{"$error":"#DIV/0!"}},null,"[IAMVE]conf+",null,{"$f":"(VLOOKUP(\"F12\",FUNZIONALITÀ!N6:T135,6,FALSE)+VLOOKUP(\"F13\",FUNZIONALITÀ!N6:T135,6,FALSE)+VLOOKUP(\"A12\",ARTIFICIALITÀ!N5:T152,6,FALSE))/C28","v":{"$error":"#DIV/0!"}}]
["Max(SCLtot)",null,{"$f":"(VLOOKUP(\"F1\",FUNZIONALITÀ!N6:T135,4,FALSE)+VLOOKUP(\"A1\",ARTIFICIALITÀ!N5:T152,4,FALSE)+VLOOKUP(\"A2\",ARTIFICIALITÀ!N5:T152,4,FALSE)+VLOOKUP(\"A3\",ARTIFICIALITÀ!N5:T152,4,FALSE)+VLOOKUP(\"A4\",ARTIFICIALITÀ!N5:T152,4,FALSE)/2+VLOOKUP(\"A5\",ARTIFICIALITÀ!N5:T152,4,FALSE))","v":35},null,"Max(SCMtot)",null,{"$f":"(VLOOKUP(\"F7\",FUNZIONALITÀ!N6:T135,4,FALSE)+VLOOKUP(\"F8\",FUNZIONALITÀ!N6:T135,4,FALSE)+VLOOKUP(\"A6\",ARTIFICIALITÀ!N5:T152,4,FALSE)/2+VLOOKUP(\"A8\",ARTIFICIALITÀ!N5:T152,4,FALSE)+VLOOKUP(\"V1\",'VARIAZIONI MORFOLOGICHE'!N4:T28,4,FALSE))","v":20},null,"Max(SVEtot)",null,{"$f":"(VLOOKUP(\"F12\",FUNZIONALITÀ!N6:T135,4,FALSE)+VLOOKUP(\"F13\",FUNZIONALITÀ!N6:T135,4,FALSE)+VLOOKUP(\"A12\",ARTIFICIALITÀ!N5:T152,4,FALSE))","v":13}]
["Sna(CL)",null,{"$f":"(VLOOKUP(\"F1\",FUNZIONALITÀ!N6:T135,3,FALSE)+VLOOKUP(\"A1\",ARTIFICIALITÀ!N5:T152,3,FALSE)+VLOOKUP(\"A2\",ARTIFICIALITÀ!N5:T152,3,FALSE)+VLOOKUP(\"A3\",ARTIFICIALITÀ!N5:T152,3,FALSE)+VLOOKUP(\"A4\",ARTIFICIALITÀ!N5:T152,3,FALSE)/2+VLOOKUP(\"A5\",ARTIFICIALITÀ!N5:T152,3,FALSE))","v":35},null,"Sna(CM)",null,{"$f":"(VLOOKUP(\"F7\",FUNZIONALITÀ!N6:T135,3,FALSE)+VLOOKUP(\"F8\",FUNZIONALITÀ!N6:T135,3,FALSE)+VLOOKUP(\"A6\",ARTIFICIALITÀ!N5:T152,3,FALSE)/2+VLOOKUP(\"A8\",ARTIFICIALITÀ!N5:T152,3,FALSE)+VLOOKUP(\"V1\",'VARIAZIONI MORFOLOGICHE'!N4:T28,3,FALSE))","v":20},null,"Sna(VE)",null,{"$f":"(VLOOKUP(\"F12\",FUNZIONALITÀ!N6:T135,3,FALSE)+VLOOKUP(\"F13\",FUNZIONALITÀ!N6:T135,3,FALSE)+VLOOKUP(\"A12\",ARTIFICIALITÀ!N5:T152,3,FALSE))","v":13}]
["SCLmax=Max(SCLtot)-Sna(CL)",null,{"$f":"C39-C40","v":0},null,"SCMmax=Max(SCMtot)-Sna(CM)",null,{"$f":"G39-G40","v":0},null,"SVEmax=Max(SVEtot)-Sna(VE)",null,{"$f":"K39-K40","v":0}]
["IQMCL = (SCLmax/Smax) -IAMCL",null,{"$f":"C41/$C$28-C36","v":{"$error":"#DIV/0!"}},null,"IQMCM=(SCMmax/Smax) - IAMCM",null,{"$f":"G41/$C$28-G36","v":{"$error":"#DIV/0!"}},null,"IQMVE = (SVEmax/Smax) -IAMVE",null,{"$f":"K41/$C$28-K36","v":{"$error":"#DIV/0!"}}]
["[IQMCL]conf-",null,{"$f":"C41/$C$28-C37","v":{"$error":"#DIV/0!"}},null,"[IQMCM]conf-",null,{"$f":"G41/$C$28-G37","v":{"$error":"#DIV/0!"}},null,"[IQMVE]conf-",null,{"$f":"K41/$C$28-K37","v":{"$error":"#DIV/0!"}}]
["[IQMCL]conf+",null,{"$f":"C41/$C$28-C38","v":{"$error":"#DIV/0!"}},null,"[IQMCM]conf+",null,{"$f":"G41/$C$28-G38","v":{"$error":"#DIV/0!"}},null,"[IQMVE]conf+",null,{"$f":"K41/$C$28-K38","v":{"$error":"#DIV/0!"}}]
[]
["Continuità laterale (CLA)",null,null,null,"Configurazione della sezione (CS)",null,null,null,"IAMVE max = IQMVE max = SVEmax/Smax",null,{"$f":"K41/$C$28","v":{"$error":"#DIV/0!"}}]
["IAMCLA = (F2+F3+F4+F5+A6/2+A7)/Smax",null,{"$f":"(VLOOKUP(\"F2\",FUNZIONALITÀ!N6:T135,2,FALSE)+VLOOKUP(\"F4\",FUNZIONALITÀ!N6:T135,2,FALSE)+VLOOKUP(\"F5\",FUNZIONALITÀ!N6:T135,2,FALSE)+VLOOKUP(\"A6\",ARTIFICIALITÀ!N5:T152,2,FALSE)/2+VLOOKUP(\"A7\",ARTIFICIALITÀ!N5:T152,2,FALSE))/C28","v":{"$error":"#DIV/0!"}},null,"IAMCS = (F9+A4/2+A9/2+A10/2+V2+V3)/Smax",null,{"$f":"(VLOOKUP(\"F9\",FUNZIONALITÀ!N6:T135,2,FALSE)+VLOOKUP(\"A4\",ARTIFICIALITÀ!N5:T152,2,FALSE)/2+VLOOKUP(\"A9\",ARTIFICIALITÀ!N5:T152,2,FALSE)/2+VLOOKUP(\"A10\",ARTIFICIALITÀ!N5:T152,2,FALSE)/2+VLOOKUP(\"V2\",'VARIAZIONI MORFOLOGICHE'!N4:T28,2,FALSE)+VLOOKUP(\"V3\",'VARIAZIONI MORFOLOGICHE'!N4:T28,2,FALSE))/C28","v":{"$error":"#DIV/0!"}}]
["[IAMCLA]conf-",null,{"$f":"(VLOOKUP(\"F2\",FUNZIONALITÀ!N6:T135,7,FALSE)+VLOOKUP(\"F4\",FUNZIONALITÀ!N6:T135,7,FALSE)+VLOOKUP(\"F5\",FUNZIONALITÀ!N6:T135,7,FALSE)+VLOOKUP(\"A6\",ARTIFICIALITÀ!N5:T152,7,FALSE)/2+VLOOKUP(\"A7\",ARTIFICIALITÀ!N5:T152,7,FALSE))/C28","v":{"$error":"#DIV/0!"}},null,"[IAMCS]conf-",null,{"$f":"(VLOOKUP(\"F9\",FUNZIONALITÀ!N6:T135,7,FALSE)+VLOOKUP(\"A4\",ARTIFICIALITÀ!N5:T152,7,FALSE)/2+VLOOKUP(\"A9\",ARTIFICIALITÀ!N5:T152,7,FALSE)/2+VLOOKUP(\"A10\",ARTIFICIALITÀ!N5:T152,7,FALSE)/2+VLOOKUP(\"V2\",'VARIAZIONI MORFOLOGICHE'!N4:T28,7,FALSE)+VLOOKUP(\"V3\",'VARIAZIONI MORFOLOGICHE'!N4:T28,7,FALSE))/C28","v":{"$error":"#DIV/0!"}}]
["[IAMCLA]conf+",null,{"$f":"(VLOOKUP(\"F2\",FUNZIONALITÀ!N6:T135,6,FALSE)+VLOOKUP(\"F4\",FUNZIONALITÀ!N6:T135,6,FALSE)+VLOOKUP(\"F5\",FUNZIONALITÀ!N6:T135,6,FALSE)+VLOOKUP(\"A6\",ARTIFICIALITÀ!N5:T152,6,FALSE)/2+VLOOKUP(\"A7\",ARTIFICIALITÀ!N5:T152,6,FALSE))/C28","v":{"$error":"#DIV/0!"}},null,"[IAMCS]conf+",null,{"$f":"(VLOOKUP(\"F9\",FUNZIONALITÀ!N6:T135,6,FALSE)+VLOOKUP(\"A4\",ARTIFICIALITÀ!N5:T152,6,FALSE)/2+VLOOKUP(\"A9\",ARTIFICIALITÀ!N5:T152,6,FALSE)/2+VLOOKUP(\"A10\",ARTIFICIALITÀ!N5:T152,6,FALSE)/2+VLOOKUP(\"V2\",'VARIAZIONI MORFOLOGICHE'!N4:T28,6,FALSE)+VLOOKUP(\"V3\",'VARIAZIONI MORFOLOGICHE'!N4:T28,6,FALSE))/C28","v":{"$error":"#DIV/0!"}}]
["Max(SCLAtot)",null,{"$f":"(VLOOKUP(\"F2\",FUNZIONALITÀ!N6:T135,4,FALSE)+VLOOKUP(\"F4\",FUNZIONALITÀ!N6:T135,4,FALSE)+VLOOKUP(\"F5\",FUNZIONALITÀ!N6:T135,4,FALSE)+VLOOKUP(\"A6\",ARTIFICIALITÀ!N5:T152,4,FALSE)/2+VLOOKUP(\"A7\",ARTIFICIALITÀ!N5:T152,4,FALSE))","v":20},null,"Max(SCStot)",null,{"$f":"(VLOOKUP(\"F9\",FUNZIONALITÀ!N6:T135,4,FALSE)+VLOOKUP(\"A4\",ARTIFICIALITÀ!N5:T152,4,FALSE)/2+VLOOKUP(\"A9\",ARTIFICIALITÀ!N5:T152,4,FALSE)/2+VLOOKUP(\"A10\",ARTIFICIALITÀ!N5:T152,4,FALSE)/2+VLOOKUP(\"V2\",'VARIAZIONI MORFOLOGICHE'!N4:T28,4,FALSE)+VLOOKUP(\"V3\",'VARIAZIONI MORFOLOGICHE'!N4:T28,4,FALSE))","v":33}]
["Sna(CLA)",null,{"$f":"(VLOOKUP(\"F2\",FUNZIONALITÀ!N6:T135,3,FALSE)+VLOOKUP(\"F4\",FUNZIONALITÀ!N6:T135,3,FALSE)+VLOOKUP(\"F5\",FUNZIONALITÀ!N6:T135,3,FALSE)+VLOOKUP(\"A6\",ARTIFICIALITÀ!N5:T152,3,FALSE)/2+VLOOKUP(\"A7\",ARTIFICIALITÀ!N5:T152,3,FALSE))","v":20},null,"Sna(CS)",null,{"$f":"(VLOOKUP(\"F9\",FUNZIONALITÀ!N6:T135,3,FALSE)+VLOOKUP(\"A4\",ARTIFICIALITÀ!N5:T152,3,FALSE)/2+VLOOKUP(\"A9\",ARTIFICIALITÀ!N5:T152,3,FALSE)/2+VLOOKUP(\"A10\",ARTIFICIALITÀ!N5:T152,3,FALSE)/2+VLOOKUP(\"V2\",'VARIAZIONI MORFOLOGICHE'!N4:T28,3,FALSE)+VLOOKUP(\"V3\",'VARIAZIONI MORFOLOGICHE'!N4:T28,3,FALSE))","v":33}]
["SCLAmax=Max(SCLAtot)-Sna(CLA)",null,{"$f":"C50-C51","v":0},null,"SCSmax=Max(SCStot)-Sna(CS)",null,{"$f":"G50-G51","v":0}]
["IQMCLA = (SCLAmax/Smax) -IAMCLA",null,{"$f":"C52/$C$28-C47","v":{"$error":"#DIV/0!"}},null,"IQMCS=(SCSmax/Smax) - IAMCS",null,{"$f":"G52/$C$28-G47","v":{"$error":"#DIV/0!"}}]
["[IQMCLA]conf-",null,{"$f":"C52/$C$28-C48","v":{"$error":"#DIV/0!"}},null,"[IQMCS]conf-",null,{"$f":"G52/$C$28-G48","v":{"$error":"#DIV/0!"}}]
["[IQMCLA]conf+",null,{"$f":"C52/$C$28-C49","v":{"$error":"#DIV/0!"}},null,"[IQMCS]conf+",null,{"$f":"G52/$C$28-G49","v":{"$error":"#DIV/0!"}}]
[]
["CONTINUITÀ ( C )",null,null,null,"Substrato (S)"]
["IAMC=IAMCL+IAMCLA",null,{"$f":"ROUND(C36,2)+ROUND(C47,2)","v":{"$error":"#DIV/0!"}},null,"IAMS = (F10+F11+A9/2+A10/2+A11)/Smax",null,{"$f":"(VLOOKUP(\"F10\",FUNZIONALITÀ!N6:T135,2,FALSE)+VLOOKUP(\"F11\",FUNZIONALITÀ!N6:T135,2,FALSE)+VLOOKUP(\"A9\",ARTIFICIALITÀ!N5:T152,2,FALSE)/2+VLOOKUP(\"A10\",ARTIFICIALITÀ!N5:T152,2,FALSE)/2+VLOOKUP(\"A11\",ARTIFICIALITÀ!N5:T152,2,FALSE))/C28","v":{"$error":"#DIV/0!"}}]
["[IAMC]conf-",null,{"$f":"C37+C48","v":{"$error":"#DIV/0!"}},null,"[IAMS]conf-",null,{"$f":"(VLOOKUP(\"F10\",FUNZIONALITÀ!N6:T135,7,FALSE)+VLOOKUP(\"F11\",FUNZIONALITÀ!N6:T135,7,FALSE)+VLOOKUP(\"A9\",ARTIFICIALITÀ!N5:T152,7,FALSE)/2+VLOOKUP(\"A10\",ARTIFICIALITÀ!N5:T152,7,FALSE)/2+VLOOKUP(\"A11\",ARTIFICIALITÀ!N5:T152,7,FALSE))/C28","v":{"$error":"#DIV/0!"}}]
["[IAMC]conf+",null,{"$f":"C38+C49","v":{"$error":"#DIV/0!"}},null,"[IAMS]conf+",null,{"$f":"(VLOOKUP(\"F10\",FUNZIONALITÀ!N6:T135,6,FALSE)+VLOOKUP(\"F11\",FUNZIONALITÀ!N6:T135,6,FALSE)+VLOOKUP(\"A9\",ARTIFICIALITÀ!N5:T152,6,FALSE)/2+VLOOKUP(\"A10\",ARTIFICIALITÀ!N5:T152,6,FALSE)/2+VLOOKUP(\"A11\",ARTIFICIALITÀ!N5:T152,6,FALSE))/C28","v":{"$error":"#DIV/0!"}}]
["IQMC=IQMCL+IQMCLA",null,{"$f":"ROUND(C42,2)+ROUND(C53,2)","v":{"$error":"#DIV/0!"}},null,"Max(SStot)",null,{"$f":"(VLOOKUP(\"F10\",FUNZIONALITÀ!N6:T135,4,FALSE)+VLOOKUP(\"F11\",FUNZIONALITÀ!N6:T135,4,FALSE)+VLOOKUP(\"A9\",ARTIFICIALITÀ!N5:T152,4,FALSE)/2+VLOOKUP(\"A10\",ARTIFICIALITÀ!N5:T152,4,FALSE)/2+VLOOKUP(\"A11\",ARTIFICIALITÀ!N5:T152,4,FALSE))","v":21}]
["[IQMC]conf-",null,{"$f":"C43+C54","v":{"$error":"#DIV/0!"}},null,"Sna(S)",null,{"$f":"(VLOOKUP(\"F10\",FUNZIONALITÀ!N6:T135,3,FALSE)+VLOOKUP(\"F11\",FUNZIONALITÀ!N6:T135,3,FALSE)+VLOOKUP(\"A9\",ARTIFICIALITÀ!N5:T152,3,FALSE)/2+VLOOKUP(\"A10\",ARTIFICIALITÀ!N5:T152,3,FALSE)/2+VLOOKUP(\"A11\",ARTIFICIALITÀ!N5:T152,3,FALSE))","v":21}]
["[IQMC]conf+",null,{"$f":"C44+C55","v":{"$error":"#DIV/0!"}},null,"SSmax=Max(SStot)-Sna(S)",null,{"$f":"G61-G62","v":0}]
[null,null,null,null,"IQMS=(SSmax/Smax) - IAMS",null,{"$f":"G63/$C$28-G58","v":{"$error":"#DIV/0!"}}]
["IAMC max = IQMC max = SCmax/Smax",null,{"$f":"(C41+C52)/$C$28","v":{"$error":"#DIV/0!"}},null,"[IQMS]conf-",null,{"$f":"G63/$C$28-G59","v":{"$error":"#DIV/0!"}}]
[null,null,null,null,"[IQMS]conf+",null,{"$f":"G63/$C$28-G60","v":{"$error":"#DIV/0!"}}]
[]
[null,null,null,null,"MORFOLOGIA (M)"]
[null,null,null,null,"IAMM=IAMCM+IAMCS+IAMS",null,{"$f":"ROUND(G36,2)+ROUND(G47,2)+ROUND(G58,2)","v":{"$error":"#DIV/0!"}}]
[null,null,null,null,"[IAMM]conf-",null,{"$f":"G37+G48+G59","v":{"$error":"#DIV/0!"}}]
[null,null,null,null,"[IAMM]conf+",null,{"$f":"G38+G49+G60","v":{"$error":"#DIV/0!"}}]
[null,null,null,null,"IQMM=IQMCM+IQMCS+IQMS",null,{"$f":"ROUND(G42,2)+ROUND(G53,2)+ROUND(G64,2)","v":{"$error":"#DIV/0!"}}]
[null,null,null,null,"[QMM]conf-",null,{"$f":"G43+G54+G65","v":{"$error":"#DIV/0!"}}]
[null,null,null,null,"[QMM]conf+",null,{"$f":"G44+G55+G66","v":{"$error":"#DIV/0!"}}]
[]
[null,null,null,null,"IAMM max = IQMM max = SMmax/Smax",null,{"$f":"(G41+G52+G63)/$C$28","v":{"$error":"#DIV/0!"}}]

{"sheet":"SINTESI","index":6,"n_rows":32,"n_cols":12,"rows_kept":32,"cut":false,"hidden":false,"merged":[[13,2,13,3],[13,4,13,5],[10,4,10,5],[0,0,0,5],[1,0,1,5],[2,0,2,5],[4,0,4,5],[8,2,8,3],[7,4,7,5],[6,0,6,5],[8,4,8,5],[20,0,22,0],[24,0,31,0],[7,0,7,1],[8,0,8,1],[10,0,10,1],[11,0,11,1],[9,0,9,5],[7,2,7,3],[11,4,11,5],[10,2,10,3],[14,2,14,3],[14,4,14,5],[12,0,12,5],[11,2,11,3],[14,0,14,1],[13,0,13,1]]}
["IDRAIM"]
["sistema di valutazione IDRomorfologica, AnalisI e Monitoraggio dei Corsi d'Acqua",null,null,null,null,null,null,null,null,"VAL","IQM","CLASSE DI QUALITÀ"]
[{"$f":"INQUADRAMENTO!G54","v":"Versione 2.4 - Aprile 2016"},null,null,null,null,null,null,null,null,0.3,"0.0 ≤ IQM < 0.3","Pessimo o Cattivo"]
[null,null,null,null,null,null,null,null,null,0.5,"0.3 ≤ IQM < 0.5","Scadente o Scarso"]
[{"$f":"\"INDICI E CLASSI DI QUALITÀ del tratto \" &GENERALITÀ!F10","v":"INDICI E CLASSI DI QUALITÀ del tratto "},null,null,null,null,null,null,null,null,0.7,"0.5 ≤ IQM < 0.7","Moderato o Sufficiente"]
[null,null,null,null,null,null,null,null,null,0.85,"0.7 ≤ IQM < 0.85","Buono"]
["IAM = Indice di Alterazione Morfologica (0≤IAM≤1)",null,null,null,null,null,null,null,null,null,"0.85 ≤ IQM ≤ 1.0","Elevato"]
["IAM",null,"IAMmin",null,"IAMmax"]
[{"$f":"IF(CALC_INDICI!F23>1,1 &\"(*)\",CALC_INDICI!F23)","v":{"$error":"#DIV/0!"}},null,{"$f":"IF(CALC_INDICI!F24>1,1 &\"(*)\",CALC_INDICI!F24)","v":{"$error":"#DIV/0!"}},null,{"$f":"IF(CALC_INDICI!F25>1,1 &\"(*)\",CALC_INDICI!F25)","v":{"$error":"#DIV/0!"}},null,"IQM","CLASSE DI QUALITÀ"]
["IQM = Indice di Qualità Morfologica  (0≤IQM≤1)",null,null,null,null,null,"0.0 ≤ IQM < 0.3","Pessimo o Cattivo"]
["IQM",null,"IQMmin",null,"IQMmax",null,"0.3 ≤ IQM < 0.5","Scadente o Scarso"]
[{"$f":"IF(CALC_INDICI!F26<0,0 &\"(**)\",CALC_INDICI!F26)","v":{"$error":"#DIV/0!"}},null,{"$f":"IF(CALC_INDICI!F28<0,0 &\"(**)\",CALC_INDICI!F28)","v":{"$error":"#DIV/0!"}},null,{"$f":"IF(CALC_INDICI!F27<0,0 &\"(**)\",CALC_INDICI!F27)","v":{"$error":"#DIV/0!"}},null,"0.5 ≤ IQM < 0.7","Moderato o Sufficiente"]
["CLASSI DI QUALITÀ (IQM)",null,null,null,null,null,"0.7 ≤ IQM < 0.85","Buono"]
["CLASSEmed",null,"CLASSEmin",null,"CLASSEmax",null,"0.85 ≤ IQM ≤ 1.0","Elevato"]
[{"$f":"IF(OR(A12<$J$3,A12=\"0(**)\"),$L$3,IF(A12<$J$4,$L$4,IF(A12<$J$5,$L$5,IF(A12<$J$6,$L$6,$L$7))))","v":{"$error":"#DIV/0!"}},null,{"$f":"IF(OR(C12<$J$3,C12=\"0(**)\"),$L$3,IF(C12<$J$4,$L$4,IF(C12<$J$5,$L$5,IF(C12<$J$6,$L$6,$L$7))))","v":{"$error":"#DIV/0!"}},null,{"$f":"IF(OR(E12<$J$3,E12=\"0(**)\"),$L$3,IF(E12<$J$4,$L$4,IF(E12<$J$5,$L$5,IF(E12<$J$6,$L$6,$L$7))))","v":{"$error":"#DIV/0!"}}]
["(*) IAM > 1"]
["(**) IQM < 0"]
[]
["SUB-INDICI"]
[null,null,"IAM","IQM","tot"]
["VERTICALI","Funzionalità",{"$f":"CALC_INDICI!$B$12","v":{"$error":"#DIV/0!"}},{"$f":"CALC_INDICI!$B$16","v":{"$error":"#DIV/0!"}},{"$f":"CALC_INDICI!$B$20","v":{"$error":"#DIV/0!"}}]
[null,"Artificialità",{"$f":"CALC_INDICI!$D$12","v":{"$error":"#DIV/0!"}},{"$f":"CALC_INDICI!$D$16","v":{"$error":"#DIV/0!"}},{"$f":"CALC_INDICI!$D$20","v":{"$error":"#DIV/0!"}}]
[null,"Variazioni",{"$f":"CALC_INDICI!$F$12","v":{"$error":"#DIV/0!"}},{"$f":"CALC_INDICI!$F$16","v":{"$error":"#DIV/0!"}},{"$f":"CALC_INDICI!$F$20","v":{"$error":"#DIV/0!"}}]
[]
["ORIZZONTALI","Continuità",{"$f":"CALC_INDICI!$C$58","v":{"$error":"#DIV/0!"}},{"$f":"CALC_INDICI!$C$61","v":{"$error":"#DIV/0!"}},{"$f":"CALC_INDICI!$C$65","v":{"$error":"#DIV/0!"}}]
[null,"Longitudinale",{"$f":"CALC_INDICI!$C$36","v":{"$error":"#DIV/0!"}},{"$f":"CALC_INDICI!$C$42","v":{"$error":"#DIV/0!"}}]
[null,"Laterale",{"$f":"CALC_INDICI!$C$47","v":{"$error":"#DIV/0!"}},{"$f":"CALC_INDICI!$C$53","v":{"$error":"#DIV/0!"}}]
[null,"Morfologia",{"$f":"CALC_INDICI!$G$69","v":{"$error":"#DIV/0!"}},{"$f":"CALC_INDICI!$G$72","v":{"$error":"#DIV/0!"}},{"$f":"CALC_INDICI!$G$76","v":{"$error":"#DIV/0!"}}]
[null,"Configurazione morfologica",{"$f":"CALC_INDICI!$G$36","v":{"$error":"#DIV/0!"}},{"$f":"CALC_INDICI!$G$42","v":{"$error":"#DIV/0!"}}]
[null,"Configurazione sezione",{"$f":"CALC_INDICI!$G$47","v":{"$error":"#DIV/0!"}},{"$f":"CALC_INDICI!$G$53","v":{"$error":"#DIV/0!"}}]
[null,"Substrato",{"$f":"CALC_INDICI!$G$58","v":{"$error":"#DIV/0!"}},{"$f":"CALC_INDICI!$G$64","v":{"$error":"#DIV/0!"}}]
[null,"Vegetazione",{"$f":"CALC_INDICI!$K$36","v":{"$error":"#DIV/0!"}},{"$f":"CALC_INDICI!$K$42","v":{"$error":"#DIV/0!"}},{"$f":"CALC_INDICI!$K$46","v":{"$error":"#DIV/0!"}}]